BEGIN:VCALENDAR
VERSION:2.0
PRODID:-//The Centre at VitaZen - ECPv6.10.1.1//NONSGML v1.0//EN
CALSCALE:GREGORIAN
METHOD:PUBLISH
X-ORIGINAL-URL:https://www.thecentreatvitazen.com
X-WR-CALDESC:Events for The Centre at VitaZen
REFRESH-INTERVAL;VALUE=DURATION:PT1H
X-Robots-Tag:noindex
X-PUBLISHED-TTL:PT1H
BEGIN:VTIMEZONE
TZID:UTC
BEGIN:STANDARD
TZOFFSETFROM:+0000
TZOFFSETTO:+0000
TZNAME:UTC
DTSTART:20260101T000000
END:STANDARD
END:VTIMEZONE
BEGIN:VEVENT
DTSTART;TZID=UTC:20260304T090000
DTEND;TZID=UTC:20260304T100000
DTSTAMP:20260420T115745
CREATED:20260221T193448Z
LAST-MODIFIED:20260221T193448Z
UID:10003740-1772614800-1772618400@www.thecentreatvitazen.com
SUMMARY:Yoga w Elizabeth
DESCRIPTION:
URL:https://www.thecentreatvitazen.com/calendar/yoga-w-elizabeth-15/2026-03-04/
LOCATION:The Centre at Vitazen\, Location: 12787 BTW Highway\, Suite 103\, Hardy\, VA\, 24101\, United States
CATEGORIES:Yoga Class
END:VEVENT
BEGIN:VEVENT
DTSTART;TZID=UTC:20260304T110000
DTEND;TZID=UTC:20260304T120000
DTSTAMP:20260420T115745
CREATED:20260221T190538Z
LAST-MODIFIED:20260221T190538Z
UID:10003712-1772622000-1772625600@www.thecentreatvitazen.com
SUMMARY:Ageless Yogis w Glenda
DESCRIPTION:
URL:https://www.thecentreatvitazen.com/calendar/ageless-yogis-w-glenda-14/2026-03-04/
LOCATION:The Centre at Vitazen\, Location: 12787 BTW Highway\, Suite 103\, Hardy\, VA\, 24101\, United States
CATEGORIES:Yoga Class
END:VEVENT
END:VCALENDAR