BEGIN:VCALENDAR
VERSION:2.0
PRODID:-//The Centre at VitaZen - ECPv6.10.1.1//NONSGML v1.0//EN
CALSCALE:GREGORIAN
METHOD:PUBLISH
X-ORIGINAL-URL:https://www.thecentreatvitazen.com
X-WR-CALDESC:Events for The Centre at VitaZen
REFRESH-INTERVAL;VALUE=DURATION:PT1H
X-Robots-Tag:noindex
X-PUBLISHED-TTL:PT1H
BEGIN:VTIMEZONE
TZID:UTC
BEGIN:STANDARD
TZOFFSETFROM:+0000
TZOFFSETTO:+0000
TZNAME:UTC
DTSTART:20260101T000000
END:STANDARD
END:VTIMEZONE
BEGIN:VEVENT
DTSTART;TZID=UTC:20260327T090000
DTEND;TZID=UTC:20260327T100000
DTSTAMP:20260420T082715
CREATED:20260221T213741Z
LAST-MODIFIED:20260221T213741Z
UID:10003763-1774602000-1774605600@www.thecentreatvitazen.com
SUMMARY:Yoga w Ann
DESCRIPTION:
URL:https://www.thecentreatvitazen.com/calendar/yoga-w-ann-15/2026-03-27/
LOCATION:The Centre at Vitazen\, Location: 12787 BTW Highway\, Suite 103\, Hardy\, VA\, 24101\, United States
CATEGORIES:Yoga Class
END:VEVENT
BEGIN:VEVENT
DTSTART;TZID=UTC:20260327T110000
DTEND;TZID=UTC:20260327T120000
DTSTAMP:20260420T082715
CREATED:20260221T214028Z
LAST-MODIFIED:20260221T214028Z
UID:10003767-1774609200-1774612800@www.thecentreatvitazen.com
SUMMARY:Chair Yoga w Glenda
DESCRIPTION:
URL:https://www.thecentreatvitazen.com/calendar/chair-yoga-w-glenda-12/2026-03-27/
LOCATION:The Centre at Vitazen\, Location: 12787 BTW Highway\, Suite 103\, Hardy\, VA\, 24101\, United States
CATEGORIES:Yoga Class
END:VEVENT
BEGIN:VEVENT
DTSTART;TZID=UTC:20260327T130000
DTEND;TZID=UTC:20260327T140000
DTSTAMP:20260420T082715
CREATED:20260221T214218Z
LAST-MODIFIED:20260221T214218Z
UID:10003771-1774616400-1774620000@www.thecentreatvitazen.com
SUMMARY:BeYIN w Glenda
DESCRIPTION:
URL:https://www.thecentreatvitazen.com/calendar/beyin-w-glenda-5/2026-03-27/
LOCATION:The Centre at Vitazen\, Location: 12787 BTW Highway\, Suite 103\, Hardy\, VA\, 24101\, United States
CATEGORIES:Yoga Class
END:VEVENT
END:VCALENDAR