BEGIN:VCALENDAR
VERSION:2.0
PRODID:-//The Centre at VitaZen - ECPv6.10.1.1//NONSGML v1.0//EN
CALSCALE:GREGORIAN
METHOD:PUBLISH
X-ORIGINAL-URL:https://www.thecentreatvitazen.com
X-WR-CALDESC:Events for The Centre at VitaZen
REFRESH-INTERVAL;VALUE=DURATION:PT1H
X-Robots-Tag:noindex
X-PUBLISHED-TTL:PT1H
BEGIN:VTIMEZONE
TZID:UTC
BEGIN:STANDARD
TZOFFSETFROM:+0000
TZOFFSETTO:+0000
TZNAME:UTC
DTSTART:20260101T000000
END:STANDARD
END:VTIMEZONE
BEGIN:VEVENT
DTSTART;TZID=UTC:20260331T110000
DTEND;TZID=UTC:20260331T120000
DTSTAMP:20260420T115156
CREATED:20260221T192542Z
LAST-MODIFIED:20260221T192542Z
UID:10003734-1774954800-1774958400@www.thecentreatvitazen.com
SUMMARY:Strong and Balanced w Leslie
DESCRIPTION:
URL:https://www.thecentreatvitazen.com/calendar/strong-and-balanced-w-leslie/2026-03-31/
LOCATION:The Centre at Vitazen\, Location: 12787 BTW Highway\, Suite 103\, Hardy\, VA\, 24101\, United States
CATEGORIES:Yoga Class
END:VEVENT
BEGIN:VEVENT
DTSTART;TZID=UTC:20260331T140000
DTEND;TZID=UTC:20260331T150000
DTSTAMP:20260420T115156
CREATED:20260221T193009Z
LAST-MODIFIED:20260221T193009Z
UID:10003739-1774965600-1774969200@www.thecentreatvitazen.com
SUMMARY:Yoga w Cheran
DESCRIPTION:
URL:https://www.thecentreatvitazen.com/calendar/yoga-w-cheran-27/2026-03-31/
LOCATION:The Centre at Vitazen\, Location: 12787 BTW Highway\, Suite 103\, Hardy\, VA\, 24101\, United States
CATEGORIES:Yoga Class
END:VEVENT
END:VCALENDAR