BEGIN:VCALENDAR
VERSION:2.0
PRODID:-//The Centre at VitaZen - ECPv6.10.1.1//NONSGML v1.0//EN
CALSCALE:GREGORIAN
METHOD:PUBLISH
X-WR-CALNAME:The Centre at VitaZen
X-ORIGINAL-URL:https://www.thecentreatvitazen.com
X-WR-CALDESC:Events for The Centre at VitaZen
REFRESH-INTERVAL;VALUE=DURATION:PT1H
X-Robots-Tag:noindex
X-PUBLISHED-TTL:PT1H
BEGIN:VTIMEZONE
TZID:UTC
BEGIN:STANDARD
TZOFFSETFROM:+0000
TZOFFSETTO:+0000
TZNAME:UTC
DTSTART:20260101T000000
END:STANDARD
END:VTIMEZONE
BEGIN:VEVENT
DTSTART;TZID=UTC:20260406T110000
DTEND;TZID=UTC:20260406T120000
DTSTAMP:20260420T113833
CREATED:20260328T194219Z
LAST-MODIFIED:20260328T194219Z
UID:10004042-1775473200-1775476800@www.thecentreatvitazen.com
SUMMARY:Ageless Yogis w Glenda
DESCRIPTION:
URL:https://www.thecentreatvitazen.com/calendar/ageless-yogis-w-glenda/2026-04-06/
LOCATION:VA
CATEGORIES:Yoga Class
END:VEVENT
BEGIN:VEVENT
DTSTART;TZID=UTC:20260406T150000
DTEND;TZID=UTC:20260406T160000
DTSTAMP:20260420T113833
CREATED:20260328T201415Z
LAST-MODIFIED:20260328T201415Z
UID:10004085-1775487600-1775491200@www.thecentreatvitazen.com
SUMMARY:Yoga w Brett
DESCRIPTION:
URL:https://www.thecentreatvitazen.com/calendar/yoga-w-brett/2026-04-06/
LOCATION:The Centre at Vitazen\, Location: 12787 BTW Highway\, Suite 103\, Hardy\, VA\, 24101\, United States
CATEGORIES:Yoga Class
END:VEVENT
BEGIN:VEVENT
DTSTART;TZID=UTC:20260406T180000
DTEND;TZID=UTC:20260406T190000
DTSTAMP:20260420T113833
CREATED:20260328T201628Z
LAST-MODIFIED:20260328T201628Z
UID:10004087-1775498400-1775502000@www.thecentreatvitazen.com
SUMMARY:Yoga w Marge
DESCRIPTION:
URL:https://www.thecentreatvitazen.com/calendar/yoga-w-marge-3/2026-04-06/
LOCATION:The Centre at Vitazen\, Location: 12787 BTW Highway\, Suite 103\, Hardy\, VA\, 24101\, United States
CATEGORIES:Yoga Class
END:VEVENT
END:VCALENDAR