BEGIN:VCALENDAR
VERSION:2.0
PRODID:-//The Centre at VitaZen - ECPv6.10.1.1//NONSGML v1.0//EN
CALSCALE:GREGORIAN
METHOD:PUBLISH
X-WR-CALNAME:The Centre at VitaZen
X-ORIGINAL-URL:https://www.thecentreatvitazen.com
X-WR-CALDESC:Events for The Centre at VitaZen
REFRESH-INTERVAL;VALUE=DURATION:PT1H
X-Robots-Tag:noindex
X-PUBLISHED-TTL:PT1H
BEGIN:VTIMEZONE
TZID:UTC
BEGIN:STANDARD
TZOFFSETFROM:+0000
TZOFFSETTO:+0000
TZNAME:UTC
DTSTART:20280101T000000
END:STANDARD
END:VTIMEZONE
BEGIN:VEVENT
DTSTART;TZID=UTC:20281007T110000
DTEND;TZID=UTC:20281007T120000
DTSTAMP:20260420T035703
CREATED:20260328T191920Z
LAST-MODIFIED:20260328T191920Z
UID:10003906-1854529200-1854532800@www.thecentreatvitazen.com
SUMMARY:Saturday Salutation
DESCRIPTION:
URL:https://www.thecentreatvitazen.com/calendar/saturday-salutation/2028-10-07/
LOCATION:The Centre at Vitazen\, Location: 12787 BTW Highway\, Suite 103\, Hardy\, VA\, 24101\, United States
CATEGORIES:Yoga Class
END:VEVENT
BEGIN:VEVENT
DTSTART;TZID=UTC:20281014T110000
DTEND;TZID=UTC:20281014T120000
DTSTAMP:20260420T035703
CREATED:20260328T191920Z
LAST-MODIFIED:20260328T191920Z
UID:10003907-1855134000-1855137600@www.thecentreatvitazen.com
SUMMARY:Saturday Salutation
DESCRIPTION:
URL:https://www.thecentreatvitazen.com/calendar/saturday-salutation/2028-10-14/
LOCATION:The Centre at Vitazen\, Location: 12787 BTW Highway\, Suite 103\, Hardy\, VA\, 24101\, United States
CATEGORIES:Yoga Class
END:VEVENT
BEGIN:VEVENT
DTSTART;TZID=UTC:20281021T110000
DTEND;TZID=UTC:20281021T120000
DTSTAMP:20260420T035703
CREATED:20260328T191920Z
LAST-MODIFIED:20260328T191920Z
UID:10003908-1855738800-1855742400@www.thecentreatvitazen.com
SUMMARY:Saturday Salutation
DESCRIPTION:
URL:https://www.thecentreatvitazen.com/calendar/saturday-salutation/2028-10-21/
LOCATION:The Centre at Vitazen\, Location: 12787 BTW Highway\, Suite 103\, Hardy\, VA\, 24101\, United States
CATEGORIES:Yoga Class
END:VEVENT
BEGIN:VEVENT
DTSTART;TZID=UTC:20281028T110000
DTEND;TZID=UTC:20281028T120000
DTSTAMP:20260420T035703
CREATED:20260328T191920Z
LAST-MODIFIED:20260328T191920Z
UID:10003909-1856343600-1856347200@www.thecentreatvitazen.com
SUMMARY:Saturday Salutation
DESCRIPTION:
URL:https://www.thecentreatvitazen.com/calendar/saturday-salutation/2028-10-28/
LOCATION:The Centre at Vitazen\, Location: 12787 BTW Highway\, Suite 103\, Hardy\, VA\, 24101\, United States
CATEGORIES:Yoga Class
END:VEVENT
BEGIN:VEVENT
DTSTART;TZID=UTC:20281104T110000
DTEND;TZID=UTC:20281104T120000
DTSTAMP:20260420T035703
CREATED:20260328T191920Z
LAST-MODIFIED:20260328T191920Z
UID:10003910-1856948400-1856952000@www.thecentreatvitazen.com
SUMMARY:Saturday Salutation
DESCRIPTION:
URL:https://www.thecentreatvitazen.com/calendar/saturday-salutation/2028-11-04/
LOCATION:The Centre at Vitazen\, Location: 12787 BTW Highway\, Suite 103\, Hardy\, VA\, 24101\, United States
CATEGORIES:Yoga Class
END:VEVENT
BEGIN:VEVENT
DTSTART;TZID=UTC:20281111T110000
DTEND;TZID=UTC:20281111T120000
DTSTAMP:20260420T035703
CREATED:20260328T191920Z
LAST-MODIFIED:20260328T191920Z
UID:10003911-1857553200-1857556800@www.thecentreatvitazen.com
SUMMARY:Saturday Salutation
DESCRIPTION:
URL:https://www.thecentreatvitazen.com/calendar/saturday-salutation/2028-11-11/
LOCATION:The Centre at Vitazen\, Location: 12787 BTW Highway\, Suite 103\, Hardy\, VA\, 24101\, United States
CATEGORIES:Yoga Class
END:VEVENT
BEGIN:VEVENT
DTSTART;TZID=UTC:20281118T110000
DTEND;TZID=UTC:20281118T120000
DTSTAMP:20260420T035703
CREATED:20260328T191920Z
LAST-MODIFIED:20260328T191920Z
UID:10003912-1858158000-1858161600@www.thecentreatvitazen.com
SUMMARY:Saturday Salutation
DESCRIPTION:
URL:https://www.thecentreatvitazen.com/calendar/saturday-salutation/2028-11-18/
LOCATION:The Centre at Vitazen\, Location: 12787 BTW Highway\, Suite 103\, Hardy\, VA\, 24101\, United States
CATEGORIES:Yoga Class
END:VEVENT
BEGIN:VEVENT
DTSTART;TZID=UTC:20281125T110000
DTEND;TZID=UTC:20281125T120000
DTSTAMP:20260420T035703
CREATED:20260328T191920Z
LAST-MODIFIED:20260328T191920Z
UID:10003913-1858762800-1858766400@www.thecentreatvitazen.com
SUMMARY:Saturday Salutation
DESCRIPTION:
URL:https://www.thecentreatvitazen.com/calendar/saturday-salutation/2028-11-25/
LOCATION:The Centre at Vitazen\, Location: 12787 BTW Highway\, Suite 103\, Hardy\, VA\, 24101\, United States
CATEGORIES:Yoga Class
END:VEVENT
BEGIN:VEVENT
DTSTART;TZID=UTC:20281202T110000
DTEND;TZID=UTC:20281202T120000
DTSTAMP:20260420T035703
CREATED:20260328T191920Z
LAST-MODIFIED:20260328T191920Z
UID:10003914-1859367600-1859371200@www.thecentreatvitazen.com
SUMMARY:Saturday Salutation
DESCRIPTION:
URL:https://www.thecentreatvitazen.com/calendar/saturday-salutation/2028-12-02/
LOCATION:The Centre at Vitazen\, Location: 12787 BTW Highway\, Suite 103\, Hardy\, VA\, 24101\, United States
CATEGORIES:Yoga Class
END:VEVENT
BEGIN:VEVENT
DTSTART;TZID=UTC:20281209T110000
DTEND;TZID=UTC:20281209T120000
DTSTAMP:20260420T035703
CREATED:20260328T191920Z
LAST-MODIFIED:20260328T191920Z
UID:10003915-1859972400-1859976000@www.thecentreatvitazen.com
SUMMARY:Saturday Salutation
DESCRIPTION:
URL:https://www.thecentreatvitazen.com/calendar/saturday-salutation/2028-12-09/
LOCATION:The Centre at Vitazen\, Location: 12787 BTW Highway\, Suite 103\, Hardy\, VA\, 24101\, United States
CATEGORIES:Yoga Class
END:VEVENT
BEGIN:VEVENT
DTSTART;TZID=UTC:20281216T110000
DTEND;TZID=UTC:20281216T120000
DTSTAMP:20260420T035703
CREATED:20260328T191920Z
LAST-MODIFIED:20260328T191920Z
UID:10003916-1860577200-1860580800@www.thecentreatvitazen.com
SUMMARY:Saturday Salutation
DESCRIPTION:
URL:https://www.thecentreatvitazen.com/calendar/saturday-salutation/2028-12-16/
LOCATION:The Centre at Vitazen\, Location: 12787 BTW Highway\, Suite 103\, Hardy\, VA\, 24101\, United States
CATEGORIES:Yoga Class
END:VEVENT
BEGIN:VEVENT
DTSTART;TZID=UTC:20281223T110000
DTEND;TZID=UTC:20281223T120000
DTSTAMP:20260420T035703
CREATED:20260328T191920Z
LAST-MODIFIED:20260328T191920Z
UID:10003917-1861182000-1861185600@www.thecentreatvitazen.com
SUMMARY:Saturday Salutation
DESCRIPTION:
URL:https://www.thecentreatvitazen.com/calendar/saturday-salutation/2028-12-23/
LOCATION:The Centre at Vitazen\, Location: 12787 BTW Highway\, Suite 103\, Hardy\, VA\, 24101\, United States
CATEGORIES:Yoga Class
END:VEVENT
BEGIN:VEVENT
DTSTART;TZID=UTC:20281230T110000
DTEND;TZID=UTC:20281230T120000
DTSTAMP:20260420T035703
CREATED:20260328T191920Z
LAST-MODIFIED:20260328T191920Z
UID:10003918-1861786800-1861790400@www.thecentreatvitazen.com
SUMMARY:Saturday Salutation
DESCRIPTION:
URL:https://www.thecentreatvitazen.com/calendar/saturday-salutation/2028-12-30/
LOCATION:The Centre at Vitazen\, Location: 12787 BTW Highway\, Suite 103\, Hardy\, VA\, 24101\, United States
CATEGORIES:Yoga Class
END:VEVENT
BEGIN:VEVENT
DTSTART;TZID=UTC:20290106T110000
DTEND;TZID=UTC:20290106T120000
DTSTAMP:20260420T035703
CREATED:20260328T191920Z
LAST-MODIFIED:20260328T191920Z
UID:10003919-1862391600-1862395200@www.thecentreatvitazen.com
SUMMARY:Saturday Salutation
DESCRIPTION:
URL:https://www.thecentreatvitazen.com/calendar/saturday-salutation/2029-01-06/
LOCATION:The Centre at Vitazen\, Location: 12787 BTW Highway\, Suite 103\, Hardy\, VA\, 24101\, United States
CATEGORIES:Yoga Class
END:VEVENT
BEGIN:VEVENT
DTSTART;TZID=UTC:20290113T110000
DTEND;TZID=UTC:20290113T120000
DTSTAMP:20260420T035703
CREATED:20260328T191920Z
LAST-MODIFIED:20260328T191920Z
UID:10003920-1862996400-1863000000@www.thecentreatvitazen.com
SUMMARY:Saturday Salutation
DESCRIPTION:
URL:https://www.thecentreatvitazen.com/calendar/saturday-salutation/2029-01-13/
LOCATION:The Centre at Vitazen\, Location: 12787 BTW Highway\, Suite 103\, Hardy\, VA\, 24101\, United States
CATEGORIES:Yoga Class
END:VEVENT
BEGIN:VEVENT
DTSTART;TZID=UTC:20290120T110000
DTEND;TZID=UTC:20290120T120000
DTSTAMP:20260420T035703
CREATED:20260328T191920Z
LAST-MODIFIED:20260328T191920Z
UID:10003921-1863601200-1863604800@www.thecentreatvitazen.com
SUMMARY:Saturday Salutation
DESCRIPTION:
URL:https://www.thecentreatvitazen.com/calendar/saturday-salutation/2029-01-20/
LOCATION:The Centre at Vitazen\, Location: 12787 BTW Highway\, Suite 103\, Hardy\, VA\, 24101\, United States
CATEGORIES:Yoga Class
END:VEVENT
BEGIN:VEVENT
DTSTART;TZID=UTC:20290127T110000
DTEND;TZID=UTC:20290127T120000
DTSTAMP:20260420T035703
CREATED:20260328T191920Z
LAST-MODIFIED:20260328T191920Z
UID:10003922-1864206000-1864209600@www.thecentreatvitazen.com
SUMMARY:Saturday Salutation
DESCRIPTION:
URL:https://www.thecentreatvitazen.com/calendar/saturday-salutation/2029-01-27/
LOCATION:The Centre at Vitazen\, Location: 12787 BTW Highway\, Suite 103\, Hardy\, VA\, 24101\, United States
CATEGORIES:Yoga Class
END:VEVENT
BEGIN:VEVENT
DTSTART;TZID=UTC:20290203T110000
DTEND;TZID=UTC:20290203T120000
DTSTAMP:20260420T035703
CREATED:20260328T191920Z
LAST-MODIFIED:20260328T191920Z
UID:10003923-1864810800-1864814400@www.thecentreatvitazen.com
SUMMARY:Saturday Salutation
DESCRIPTION:
URL:https://www.thecentreatvitazen.com/calendar/saturday-salutation/2029-02-03/
LOCATION:The Centre at Vitazen\, Location: 12787 BTW Highway\, Suite 103\, Hardy\, VA\, 24101\, United States
CATEGORIES:Yoga Class
END:VEVENT
BEGIN:VEVENT
DTSTART;TZID=UTC:20290210T110000
DTEND;TZID=UTC:20290210T120000
DTSTAMP:20260420T035703
CREATED:20260328T191920Z
LAST-MODIFIED:20260328T191920Z
UID:10003924-1865415600-1865419200@www.thecentreatvitazen.com
SUMMARY:Saturday Salutation
DESCRIPTION:
URL:https://www.thecentreatvitazen.com/calendar/saturday-salutation/2029-02-10/
LOCATION:The Centre at Vitazen\, Location: 12787 BTW Highway\, Suite 103\, Hardy\, VA\, 24101\, United States
CATEGORIES:Yoga Class
END:VEVENT
BEGIN:VEVENT
DTSTART;TZID=UTC:20290217T110000
DTEND;TZID=UTC:20290217T120000
DTSTAMP:20260420T035703
CREATED:20260328T191920Z
LAST-MODIFIED:20260328T191920Z
UID:10003925-1866020400-1866024000@www.thecentreatvitazen.com
SUMMARY:Saturday Salutation
DESCRIPTION:
URL:https://www.thecentreatvitazen.com/calendar/saturday-salutation/2029-02-17/
LOCATION:The Centre at Vitazen\, Location: 12787 BTW Highway\, Suite 103\, Hardy\, VA\, 24101\, United States
CATEGORIES:Yoga Class
END:VEVENT
BEGIN:VEVENT
DTSTART;TZID=UTC:20290224T110000
DTEND;TZID=UTC:20290224T120000
DTSTAMP:20260420T035703
CREATED:20260328T191920Z
LAST-MODIFIED:20260328T191920Z
UID:10003926-1866625200-1866628800@www.thecentreatvitazen.com
SUMMARY:Saturday Salutation
DESCRIPTION:
URL:https://www.thecentreatvitazen.com/calendar/saturday-salutation/2029-02-24/
LOCATION:The Centre at Vitazen\, Location: 12787 BTW Highway\, Suite 103\, Hardy\, VA\, 24101\, United States
CATEGORIES:Yoga Class
END:VEVENT
BEGIN:VEVENT
DTSTART;TZID=UTC:20290303T110000
DTEND;TZID=UTC:20290303T120000
DTSTAMP:20260420T035703
CREATED:20260328T191920Z
LAST-MODIFIED:20260328T191920Z
UID:10003927-1867230000-1867233600@www.thecentreatvitazen.com
SUMMARY:Saturday Salutation
DESCRIPTION:
URL:https://www.thecentreatvitazen.com/calendar/saturday-salutation/2029-03-03/
LOCATION:The Centre at Vitazen\, Location: 12787 BTW Highway\, Suite 103\, Hardy\, VA\, 24101\, United States
CATEGORIES:Yoga Class
END:VEVENT
BEGIN:VEVENT
DTSTART;TZID=UTC:20290310T110000
DTEND;TZID=UTC:20290310T120000
DTSTAMP:20260420T035703
CREATED:20260328T191920Z
LAST-MODIFIED:20260328T191920Z
UID:10003928-1867834800-1867838400@www.thecentreatvitazen.com
SUMMARY:Saturday Salutation
DESCRIPTION:
URL:https://www.thecentreatvitazen.com/calendar/saturday-salutation/2029-03-10/
LOCATION:The Centre at Vitazen\, Location: 12787 BTW Highway\, Suite 103\, Hardy\, VA\, 24101\, United States
CATEGORIES:Yoga Class
END:VEVENT
BEGIN:VEVENT
DTSTART;TZID=UTC:20290317T110000
DTEND;TZID=UTC:20290317T120000
DTSTAMP:20260420T035703
CREATED:20260328T191920Z
LAST-MODIFIED:20260328T191920Z
UID:10003929-1868439600-1868443200@www.thecentreatvitazen.com
SUMMARY:Saturday Salutation
DESCRIPTION:
URL:https://www.thecentreatvitazen.com/calendar/saturday-salutation/2029-03-17/
LOCATION:The Centre at Vitazen\, Location: 12787 BTW Highway\, Suite 103\, Hardy\, VA\, 24101\, United States
CATEGORIES:Yoga Class
END:VEVENT
BEGIN:VEVENT
DTSTART;TZID=UTC:20290324T110000
DTEND;TZID=UTC:20290324T120000
DTSTAMP:20260420T035703
CREATED:20260328T191920Z
LAST-MODIFIED:20260328T191920Z
UID:10003930-1869044400-1869048000@www.thecentreatvitazen.com
SUMMARY:Saturday Salutation
DESCRIPTION:
URL:https://www.thecentreatvitazen.com/calendar/saturday-salutation/2029-03-24/
LOCATION:The Centre at Vitazen\, Location: 12787 BTW Highway\, Suite 103\, Hardy\, VA\, 24101\, United States
CATEGORIES:Yoga Class
END:VEVENT
BEGIN:VEVENT
DTSTART;TZID=UTC:20290331T110000
DTEND;TZID=UTC:20290331T120000
DTSTAMP:20260420T035703
CREATED:20260328T191920Z
LAST-MODIFIED:20260328T191920Z
UID:10003931-1869649200-1869652800@www.thecentreatvitazen.com
SUMMARY:Saturday Salutation
DESCRIPTION:
URL:https://www.thecentreatvitazen.com/calendar/saturday-salutation/2029-03-31/
LOCATION:The Centre at Vitazen\, Location: 12787 BTW Highway\, Suite 103\, Hardy\, VA\, 24101\, United States
CATEGORIES:Yoga Class
END:VEVENT
BEGIN:VEVENT
DTSTART;TZID=UTC:20290407T110000
DTEND;TZID=UTC:20290407T120000
DTSTAMP:20260420T035703
CREATED:20260328T191920Z
LAST-MODIFIED:20260328T191920Z
UID:10003932-1870254000-1870257600@www.thecentreatvitazen.com
SUMMARY:Saturday Salutation
DESCRIPTION:
URL:https://www.thecentreatvitazen.com/calendar/saturday-salutation/2029-04-07/
LOCATION:The Centre at Vitazen\, Location: 12787 BTW Highway\, Suite 103\, Hardy\, VA\, 24101\, United States
CATEGORIES:Yoga Class
END:VEVENT
BEGIN:VEVENT
DTSTART;TZID=UTC:20290414T110000
DTEND;TZID=UTC:20290414T120000
DTSTAMP:20260420T035703
CREATED:20260328T191920Z
LAST-MODIFIED:20260328T191920Z
UID:10003933-1870858800-1870862400@www.thecentreatvitazen.com
SUMMARY:Saturday Salutation
DESCRIPTION:
URL:https://www.thecentreatvitazen.com/calendar/saturday-salutation/2029-04-14/
LOCATION:The Centre at Vitazen\, Location: 12787 BTW Highway\, Suite 103\, Hardy\, VA\, 24101\, United States
CATEGORIES:Yoga Class
END:VEVENT
BEGIN:VEVENT
DTSTART;TZID=UTC:20290421T110000
DTEND;TZID=UTC:20290421T120000
DTSTAMP:20260420T035703
CREATED:20260328T191920Z
LAST-MODIFIED:20260328T191920Z
UID:10003934-1871463600-1871467200@www.thecentreatvitazen.com
SUMMARY:Saturday Salutation
DESCRIPTION:
URL:https://www.thecentreatvitazen.com/calendar/saturday-salutation/2029-04-21/
LOCATION:The Centre at Vitazen\, Location: 12787 BTW Highway\, Suite 103\, Hardy\, VA\, 24101\, United States
CATEGORIES:Yoga Class
END:VEVENT
BEGIN:VEVENT
DTSTART;TZID=UTC:20290428T110000
DTEND;TZID=UTC:20290428T120000
DTSTAMP:20260420T035703
CREATED:20260328T191920Z
LAST-MODIFIED:20260328T191920Z
UID:10003935-1872068400-1872072000@www.thecentreatvitazen.com
SUMMARY:Saturday Salutation
DESCRIPTION:
URL:https://www.thecentreatvitazen.com/calendar/saturday-salutation/2029-04-28/
LOCATION:The Centre at Vitazen\, Location: 12787 BTW Highway\, Suite 103\, Hardy\, VA\, 24101\, United States
CATEGORIES:Yoga Class
END:VEVENT
END:VCALENDAR