BEGIN:VCALENDAR
VERSION:2.0
PRODID:-//The Centre at VitaZen - ECPv6.10.1.1//NONSGML v1.0//EN
CALSCALE:GREGORIAN
METHOD:PUBLISH
X-WR-CALNAME:The Centre at VitaZen
X-ORIGINAL-URL:https://www.thecentreatvitazen.com
X-WR-CALDESC:Events for The Centre at VitaZen
REFRESH-INTERVAL;VALUE=DURATION:PT1H
X-Robots-Tag:noindex
X-PUBLISHED-TTL:PT1H
BEGIN:VTIMEZONE
TZID:UTC
BEGIN:STANDARD
TZOFFSETFROM:+0000
TZOFFSETTO:+0000
TZNAME:UTC
DTSTART:20260101T000000
END:STANDARD
END:VTIMEZONE
BEGIN:VEVENT
DTSTART;TZID=UTC:20260428T140000
DTEND;TZID=UTC:20260428T150000
DTSTAMP:20260423T231228
CREATED:20260328T203710Z
LAST-MODIFIED:20260328T203710Z
UID:10004098-1777384800-1777388400@www.thecentreatvitazen.com
SUMMARY:Yoga w Cheran
DESCRIPTION:
URL:https://www.thecentreatvitazen.com/calendar/yoga-w-cheran-2/2026-04-28/
LOCATION:The Centre at Vitazen\, Location: 12787 BTW Highway\, Suite 103\, Hardy\, VA\, 24101\, United States
CATEGORIES:Yoga Class
END:VEVENT
BEGIN:VEVENT
DTSTART;TZID=UTC:20260429T090000
DTEND;TZID=UTC:20260429T100000
DTSTAMP:20260423T231228
CREATED:20260329T190634Z
LAST-MODIFIED:20260329T190634Z
UID:10004100-1777453200-1777456800@www.thecentreatvitazen.com
SUMMARY:No Class Today 9am
DESCRIPTION:
URL:https://www.thecentreatvitazen.com/calendar/no-class-today-9am-2/
LOCATION:The Centre at Vitazen\, Location: 12787 BTW Highway\, Suite 103\, Hardy\, VA\, 24101\, United States
CATEGORIES:Yoga Class
END:VEVENT
BEGIN:VEVENT
DTSTART;TZID=UTC:20260429T110000
DTEND;TZID=UTC:20260429T120000
DTSTAMP:20260423T231228
CREATED:20260328T194219Z
LAST-MODIFIED:20260328T194219Z
UID:10004049-1777460400-1777464000@www.thecentreatvitazen.com
SUMMARY:Ageless Yogis w Glenda
DESCRIPTION:
URL:https://www.thecentreatvitazen.com/calendar/ageless-yogis-w-glenda/2026-04-29/
LOCATION:VA
CATEGORIES:Yoga Class
END:VEVENT
BEGIN:VEVENT
DTSTART;TZID=UTC:20260429T160000
DTEND;TZID=UTC:20260429T170000
DTSTAMP:20260423T231228
CREATED:20260328T195337Z
LAST-MODIFIED:20260328T195337Z
UID:10004054-1777478400-1777482000@www.thecentreatvitazen.com
SUMMARY:Power Yoga w Brett
DESCRIPTION:
URL:https://www.thecentreatvitazen.com/calendar/power-yoga-w-brett/2026-04-29/
LOCATION:The Centre at Vitazen\, Location: 12787 BTW Highway\, Suite 103\, Hardy\, VA\, 24101\, United States
CATEGORIES:Yoga Class
END:VEVENT
BEGIN:VEVENT
DTSTART;TZID=UTC:20260430T090000
DTEND;TZID=UTC:20260430T100000
DTSTAMP:20260423T231228
CREATED:20260328T195620Z
LAST-MODIFIED:20260328T195620Z
UID:10004059-1777539600-1777543200@www.thecentreatvitazen.com
SUMMARY:Yoga w Marge
DESCRIPTION:
URL:https://www.thecentreatvitazen.com/calendar/yoga-w-marge/2026-04-30/
LOCATION:The Centre at Vitazen\, Location: 12787 BTW Highway\, Suite 103\, Hardy\, VA\, 24101\, United States
CATEGORIES:Yoga Class
END:VEVENT
BEGIN:VEVENT
DTSTART;TZID=UTC:20260430T110000
DTEND;TZID=UTC:20260430T120000
DTSTAMP:20260423T231228
CREATED:20260328T195759Z
LAST-MODIFIED:20260328T195759Z
UID:10004064-1777546800-1777550400@www.thecentreatvitazen.com
SUMMARY:Gentle Yoga w Cheran
DESCRIPTION:
URL:https://www.thecentreatvitazen.com/calendar/gentle-yoga-w-cheran/2026-04-30/
LOCATION:The Centre at Vitazen\, Location: 12787 BTW Highway\, Suite 103\, Hardy\, VA\, 24101\, United States
CATEGORIES:Yoga Class
END:VEVENT
BEGIN:VEVENT
DTSTART;TZID=UTC:20260430T180000
DTEND;TZID=UTC:20260430T190000
DTSTAMP:20260423T231228
CREATED:20260328T195925Z
LAST-MODIFIED:20260328T195925Z
UID:10004069-1777572000-1777575600@www.thecentreatvitazen.com
SUMMARY:Yoga w Cheran
DESCRIPTION:
URL:https://www.thecentreatvitazen.com/calendar/yoga-w-cheran/2026-04-30/
LOCATION:The Centre at Vitazen\, Location: 12787 BTW Highway\, Suite 103\, Hardy\, VA\, 24101\, United States
CATEGORIES:Yoga Class
END:VEVENT
BEGIN:VEVENT
DTSTART;TZID=UTC:20260501T090000
DTEND;TZID=UTC:20260501T100000
DTSTAMP:20260423T231228
CREATED:20260423T220323Z
LAST-MODIFIED:20260423T220323Z
UID:10004104-1777626000-1777629600@www.thecentreatvitazen.com
SUMMARY:Yoga w Ann
DESCRIPTION:
URL:https://www.thecentreatvitazen.com/calendar/yoga-w-ann-2/2026-05-01/
LOCATION:The Centre at Vitazen\, Location: 12787 BTW Highway\, Suite 103\, Hardy\, VA\, 24101\, United States
CATEGORIES:Yoga Class
END:VEVENT
BEGIN:VEVENT
DTSTART;TZID=UTC:20260501T110000
DTEND;TZID=UTC:20260501T120000
DTSTAMP:20260423T231228
CREATED:20260423T220456Z
LAST-MODIFIED:20260423T220456Z
UID:10004109-1777633200-1777636800@www.thecentreatvitazen.com
SUMMARY:Chair Yoga w Glenda
DESCRIPTION:
URL:https://www.thecentreatvitazen.com/calendar/chair-yoga-w-glenda-2/2026-05-01/
LOCATION:The Centre at Vitazen\, Location: 12787 BTW Highway\, Suite 103\, Hardy\, VA\, 24101\, United States
CATEGORIES:Yoga Class
END:VEVENT
BEGIN:VEVENT
DTSTART;TZID=UTC:20260501T130000
DTEND;TZID=UTC:20260501T140000
DTSTAMP:20260423T231228
CREATED:20260423T220649Z
LAST-MODIFIED:20260423T220649Z
UID:10004114-1777640400-1777644000@www.thecentreatvitazen.com
SUMMARY:BeYIN w Glenda
DESCRIPTION:
URL:https://www.thecentreatvitazen.com/calendar/beyin-w-glenda-2/2026-05-01/
LOCATION:The Centre at Vitazen\, Location: 12787 BTW Highway\, Suite 103\, Hardy\, VA\, 24101\, United States
CATEGORIES:Yoga Class
END:VEVENT
BEGIN:VEVENT
DTSTART;TZID=UTC:20260502T110000
DTEND;TZID=UTC:20260502T120000
DTSTAMP:20260423T231228
CREATED:20260328T191920Z
LAST-MODIFIED:20260328T191920Z
UID:10003779-1777719600-1777723200@www.thecentreatvitazen.com
SUMMARY:Saturday Salutation
DESCRIPTION:
URL:https://www.thecentreatvitazen.com/calendar/saturday-salutation/2026-05-02/
LOCATION:The Centre at Vitazen\, Location: 12787 BTW Highway\, Suite 103\, Hardy\, VA\, 24101\, United States
CATEGORIES:Yoga Class
END:VEVENT
BEGIN:VEVENT
DTSTART;TZID=UTC:20260503T110000
DTEND;TZID=UTC:20260503T120000
DTSTAMP:20260423T231228
CREATED:20260423T221053Z
LAST-MODIFIED:20260423T221053Z
UID:10004120-1777806000-1777809600@www.thecentreatvitazen.com
SUMMARY:Restorative Yoga w Brett
DESCRIPTION:
URL:https://www.thecentreatvitazen.com/calendar/restorative-yoga-w-brett/
LOCATION:The Centre at Vitazen\, Location: 12787 BTW Highway\, Suite 103\, Hardy\, VA\, 24101\, United States
CATEGORIES:Yoga Class
END:VEVENT
BEGIN:VEVENT
DTSTART;TZID=UTC:20260504T110000
DTEND;TZID=UTC:20260504T120000
DTSTAMP:20260423T231228
CREATED:20260423T221728Z
LAST-MODIFIED:20260423T221728Z
UID:10004125-1777892400-1777896000@www.thecentreatvitazen.com
SUMMARY:Ageless Yogis w Glenda
DESCRIPTION:
URL:https://www.thecentreatvitazen.com/calendar/ageless-yogis-w-glenda-2/2026-05-04/
LOCATION:The Centre at Vitazen\, Location: 12787 BTW Highway\, Suite 103\, Hardy\, VA\, 24101\, United States
CATEGORIES:Yoga Class
END:VEVENT
BEGIN:VEVENT
DTSTART;TZID=UTC:20260504T150000
DTEND;TZID=UTC:20260504T160000
DTSTAMP:20260423T231228
CREATED:20260423T221920Z
LAST-MODIFIED:20260423T221920Z
UID:10004132-1777906800-1777910400@www.thecentreatvitazen.com
SUMMARY:Yoga w Brett
DESCRIPTION:
URL:https://www.thecentreatvitazen.com/calendar/yoga-w-brett-2/2026-05-04/
LOCATION:The Centre at Vitazen\, Location: 12787 BTW Highway\, Suite 103\, Hardy\, VA\, 24101\, United States
CATEGORIES:Yoga Class
END:VEVENT
BEGIN:VEVENT
DTSTART;TZID=UTC:20260504T180000
DTEND;TZID=UTC:20260504T190000
DTSTAMP:20260423T231228
CREATED:20260423T222118Z
LAST-MODIFIED:20260423T222118Z
UID:10004135-1777917600-1777921200@www.thecentreatvitazen.com
SUMMARY:Yoga w Marge
DESCRIPTION:
URL:https://www.thecentreatvitazen.com/calendar/yoga-w-marge-4/2026-05-04/
LOCATION:The Centre at Vitazen\, Location: 12787 BTW Highway\, Suite 103\, Hardy\, VA\, 24101\, United States
CATEGORIES:Yoga Class
END:VEVENT
BEGIN:VEVENT
DTSTART;TZID=UTC:20260505T110000
DTEND;TZID=UTC:20260505T120000
DTSTAMP:20260423T231228
CREATED:20260423T222521Z
LAST-MODIFIED:20260423T222521Z
UID:10004139-1777978800-1777982400@www.thecentreatvitazen.com
SUMMARY:Strong & Balanced w Leslie
DESCRIPTION:
URL:https://www.thecentreatvitazen.com/calendar/strong-balanced-w-leslie-2/2026-05-05/
LOCATION:The Centre at Vitazen\, Location: 12787 BTW Highway\, Suite 103\, Hardy\, VA\, 24101\, United States
CATEGORIES:Yoga Class
END:VEVENT
BEGIN:VEVENT
DTSTART;TZID=UTC:20260505T140000
DTEND;TZID=UTC:20260505T150000
DTSTAMP:20260423T231228
CREATED:20260423T222654Z
LAST-MODIFIED:20260423T222654Z
UID:10004143-1777989600-1777993200@www.thecentreatvitazen.com
SUMMARY:Yoga w Cheran
DESCRIPTION:
URL:https://www.thecentreatvitazen.com/calendar/yoga-w-cheran-3/2026-05-05/
LOCATION:The Centre at Vitazen\, Location: 12787 BTW Highway\, Suite 103\, Hardy\, VA\, 24101\, United States
CATEGORIES:Yoga Class
END:VEVENT
BEGIN:VEVENT
DTSTART;TZID=UTC:20260506T090000
DTEND;TZID=UTC:20260506T100000
DTSTAMP:20260423T231228
CREATED:20260423T222938Z
LAST-MODIFIED:20260423T224301Z
UID:10004167-1778058000-1778061600@www.thecentreatvitazen.com
SUMMARY:Yoga w Elizabeth
DESCRIPTION:
URL:https://www.thecentreatvitazen.com/calendar/yoga-w-elizabeth-2/2026-05-06/
LOCATION:The Centre at Vitazen\, Location: 12787 BTW Highway\, Suite 103\, Hardy\, VA\, 24101\, United States
CATEGORIES:Yoga Class
END:VEVENT
BEGIN:VEVENT
DTSTART;TZID=UTC:20260506T110000
DTEND;TZID=UTC:20260506T120000
DTSTAMP:20260423T231228
CREATED:20260423T221728Z
LAST-MODIFIED:20260423T221728Z
UID:10004126-1778065200-1778068800@www.thecentreatvitazen.com
SUMMARY:Ageless Yogis w Glenda
DESCRIPTION:
URL:https://www.thecentreatvitazen.com/calendar/ageless-yogis-w-glenda-2/2026-05-06/
LOCATION:The Centre at Vitazen\, Location: 12787 BTW Highway\, Suite 103\, Hardy\, VA\, 24101\, United States
CATEGORIES:Yoga Class
END:VEVENT
BEGIN:VEVENT
DTSTART;TZID=UTC:20260506T160000
DTEND;TZID=UTC:20260506T170000
DTSTAMP:20260423T231228
CREATED:20260423T223246Z
LAST-MODIFIED:20260423T223246Z
UID:10004151-1778083200-1778086800@www.thecentreatvitazen.com
SUMMARY:Power Yoga w Brett
DESCRIPTION:
URL:https://www.thecentreatvitazen.com/calendar/power-yoga-w-brett-2/2026-05-06/
LOCATION:The Centre at Vitazen\, Location: 12787 BTW Highway\, Suite 103\, Hardy\, VA\, 24101\, United States
CATEGORIES:Yoga Class
END:VEVENT
BEGIN:VEVENT
DTSTART;TZID=UTC:20260507T090000
DTEND;TZID=UTC:20260507T100000
DTSTAMP:20260423T231228
CREATED:20260423T223516Z
LAST-MODIFIED:20260423T223516Z
UID:10004155-1778144400-1778148000@www.thecentreatvitazen.com
SUMMARY:Yoga w Marge
DESCRIPTION:
URL:https://www.thecentreatvitazen.com/calendar/yoga-w-marge-5/2026-05-07/
LOCATION:The Centre at Vitazen\, Location: 12787 BTW Highway\, Suite 103\, Hardy\, VA\, 24101\, United States
CATEGORIES:Yoga Class
END:VEVENT
BEGIN:VEVENT
DTSTART;TZID=UTC:20260507T110000
DTEND;TZID=UTC:20260507T120000
DTSTAMP:20260423T231228
CREATED:20260423T223709Z
LAST-MODIFIED:20260423T223709Z
UID:10004159-1778151600-1778155200@www.thecentreatvitazen.com
SUMMARY:Gentle Yoga w Cheran
DESCRIPTION:
URL:https://www.thecentreatvitazen.com/calendar/gentle-yoga-w-cheran-2/2026-05-07/
LOCATION:The Centre at Vitazen\, Location: 12787 BTW Highway\, Suite 103\, Hardy\, VA\, 24101\, United States
CATEGORIES:Yoga Class
END:VEVENT
BEGIN:VEVENT
DTSTART;TZID=UTC:20260507T180000
DTEND;TZID=UTC:20260507T190000
DTSTAMP:20260423T231228
CREATED:20260423T223903Z
LAST-MODIFIED:20260423T223903Z
UID:10004163-1778176800-1778180400@www.thecentreatvitazen.com
SUMMARY:Yoga w Cheran
DESCRIPTION:
URL:https://www.thecentreatvitazen.com/calendar/yoga-w-cheran-4/2026-05-07/
LOCATION:The Centre at Vitazen\, Location: 12787 BTW Highway\, Suite 103\, Hardy\, VA\, 24101\, United States
CATEGORIES:Yoga Class
END:VEVENT
BEGIN:VEVENT
DTSTART;TZID=UTC:20260508T090000
DTEND;TZID=UTC:20260508T100000
DTSTAMP:20260423T231228
CREATED:20260423T220323Z
LAST-MODIFIED:20260423T220323Z
UID:10004105-1778230800-1778234400@www.thecentreatvitazen.com
SUMMARY:Yoga w Ann
DESCRIPTION:
URL:https://www.thecentreatvitazen.com/calendar/yoga-w-ann-2/2026-05-08/
LOCATION:The Centre at Vitazen\, Location: 12787 BTW Highway\, Suite 103\, Hardy\, VA\, 24101\, United States
CATEGORIES:Yoga Class
END:VEVENT
BEGIN:VEVENT
DTSTART;TZID=UTC:20260508T110000
DTEND;TZID=UTC:20260508T120000
DTSTAMP:20260423T231228
CREATED:20260423T220456Z
LAST-MODIFIED:20260423T220456Z
UID:10004110-1778238000-1778241600@www.thecentreatvitazen.com
SUMMARY:Chair Yoga w Glenda
DESCRIPTION:
URL:https://www.thecentreatvitazen.com/calendar/chair-yoga-w-glenda-2/2026-05-08/
LOCATION:The Centre at Vitazen\, Location: 12787 BTW Highway\, Suite 103\, Hardy\, VA\, 24101\, United States
CATEGORIES:Yoga Class
END:VEVENT
BEGIN:VEVENT
DTSTART;TZID=UTC:20260508T130000
DTEND;TZID=UTC:20260508T140000
DTSTAMP:20260423T231228
CREATED:20260423T220649Z
LAST-MODIFIED:20260423T220649Z
UID:10004115-1778245200-1778248800@www.thecentreatvitazen.com
SUMMARY:BeYIN w Glenda
DESCRIPTION:
URL:https://www.thecentreatvitazen.com/calendar/beyin-w-glenda-2/2026-05-08/
LOCATION:The Centre at Vitazen\, Location: 12787 BTW Highway\, Suite 103\, Hardy\, VA\, 24101\, United States
CATEGORIES:Yoga Class
END:VEVENT
BEGIN:VEVENT
DTSTART;TZID=UTC:20260509T110000
DTEND;TZID=UTC:20260509T120000
DTSTAMP:20260423T231228
CREATED:20260328T191920Z
LAST-MODIFIED:20260328T191920Z
UID:10003780-1778324400-1778328000@www.thecentreatvitazen.com
SUMMARY:Saturday Salutation
DESCRIPTION:
URL:https://www.thecentreatvitazen.com/calendar/saturday-salutation/2026-05-09/
LOCATION:The Centre at Vitazen\, Location: 12787 BTW Highway\, Suite 103\, Hardy\, VA\, 24101\, United States
CATEGORIES:Yoga Class
END:VEVENT
BEGIN:VEVENT
DTSTART;TZID=UTC:20260510T110000
DTEND;TZID=UTC:20260510T120000
DTSTAMP:20260423T231228
CREATED:20260423T221315Z
LAST-MODIFIED:20260423T221315Z
UID:10004121-1778410800-1778414400@www.thecentreatvitazen.com
SUMMARY:Soothing Sunday Yoga w Brett
DESCRIPTION:
URL:https://www.thecentreatvitazen.com/calendar/soothing-sunday-yoga-w-brett-2/2026-05-10/
LOCATION:The Centre at Vitazen\, Location: 12787 BTW Highway\, Suite 103\, Hardy\, VA\, 24101\, United States
CATEGORIES:Yoga Class
END:VEVENT
BEGIN:VEVENT
DTSTART;TZID=UTC:20260511T110000
DTEND;TZID=UTC:20260511T120000
DTSTAMP:20260423T231228
CREATED:20260423T221728Z
LAST-MODIFIED:20260423T221728Z
UID:10004127-1778497200-1778500800@www.thecentreatvitazen.com
SUMMARY:Ageless Yogis w Glenda
DESCRIPTION:
URL:https://www.thecentreatvitazen.com/calendar/ageless-yogis-w-glenda-2/2026-05-11/
LOCATION:The Centre at Vitazen\, Location: 12787 BTW Highway\, Suite 103\, Hardy\, VA\, 24101\, United States
CATEGORIES:Yoga Class
END:VEVENT
BEGIN:VEVENT
DTSTART;TZID=UTC:20260511T150000
DTEND;TZID=UTC:20260511T160000
DTSTAMP:20260423T231228
CREATED:20260423T221920Z
LAST-MODIFIED:20260423T221920Z
UID:10004133-1778511600-1778515200@www.thecentreatvitazen.com
SUMMARY:Yoga w Brett
DESCRIPTION:
URL:https://www.thecentreatvitazen.com/calendar/yoga-w-brett-2/2026-05-11/
LOCATION:The Centre at Vitazen\, Location: 12787 BTW Highway\, Suite 103\, Hardy\, VA\, 24101\, United States
CATEGORIES:Yoga Class
END:VEVENT
END:VCALENDAR