BEGIN:VCALENDAR
VERSION:2.0
PRODID:-//The Centre at VitaZen - ECPv6.10.1.1//NONSGML v1.0//EN
CALSCALE:GREGORIAN
METHOD:PUBLISH
X-ORIGINAL-URL:https://www.thecentreatvitazen.com
X-WR-CALDESC:Events for The Centre at VitaZen
REFRESH-INTERVAL;VALUE=DURATION:PT1H
X-Robots-Tag:noindex
X-PUBLISHED-TTL:PT1H
BEGIN:VTIMEZONE
TZID:UTC
BEGIN:STANDARD
TZOFFSETFROM:+0000
TZOFFSETTO:+0000
TZNAME:UTC
DTSTART:20260101T000000
END:STANDARD
END:VTIMEZONE
BEGIN:VEVENT
DTSTART;TZID=UTC:20260507T090000
DTEND;TZID=UTC:20260507T100000
DTSTAMP:20260423T233622
CREATED:20260423T223516Z
LAST-MODIFIED:20260423T223516Z
UID:10004155-1778144400-1778148000@www.thecentreatvitazen.com
SUMMARY:Yoga w Marge
DESCRIPTION:
URL:https://www.thecentreatvitazen.com/calendar/yoga-w-marge-5/2026-05-07/
LOCATION:The Centre at Vitazen\, Location: 12787 BTW Highway\, Suite 103\, Hardy\, VA\, 24101\, United States
CATEGORIES:Yoga Class
END:VEVENT
BEGIN:VEVENT
DTSTART;TZID=UTC:20260507T110000
DTEND;TZID=UTC:20260507T120000
DTSTAMP:20260423T233622
CREATED:20260423T223709Z
LAST-MODIFIED:20260423T223709Z
UID:10004159-1778151600-1778155200@www.thecentreatvitazen.com
SUMMARY:Gentle Yoga w Cheran
DESCRIPTION:
URL:https://www.thecentreatvitazen.com/calendar/gentle-yoga-w-cheran-2/2026-05-07/
LOCATION:The Centre at Vitazen\, Location: 12787 BTW Highway\, Suite 103\, Hardy\, VA\, 24101\, United States
CATEGORIES:Yoga Class
END:VEVENT
BEGIN:VEVENT
DTSTART;TZID=UTC:20260507T180000
DTEND;TZID=UTC:20260507T190000
DTSTAMP:20260423T233622
CREATED:20260423T223903Z
LAST-MODIFIED:20260423T223903Z
UID:10004163-1778176800-1778180400@www.thecentreatvitazen.com
SUMMARY:Yoga w Cheran
DESCRIPTION:
URL:https://www.thecentreatvitazen.com/calendar/yoga-w-cheran-4/2026-05-07/
LOCATION:The Centre at Vitazen\, Location: 12787 BTW Highway\, Suite 103\, Hardy\, VA\, 24101\, United States
CATEGORIES:Yoga Class
END:VEVENT
BEGIN:VEVENT
DTSTART;TZID=UTC:20260508T090000
DTEND;TZID=UTC:20260508T100000
DTSTAMP:20260423T233622
CREATED:20260423T220323Z
LAST-MODIFIED:20260423T220323Z
UID:10004105-1778230800-1778234400@www.thecentreatvitazen.com
SUMMARY:Yoga w Ann
DESCRIPTION:
URL:https://www.thecentreatvitazen.com/calendar/yoga-w-ann-2/2026-05-08/
LOCATION:The Centre at Vitazen\, Location: 12787 BTW Highway\, Suite 103\, Hardy\, VA\, 24101\, United States
CATEGORIES:Yoga Class
END:VEVENT
BEGIN:VEVENT
DTSTART;TZID=UTC:20260508T110000
DTEND;TZID=UTC:20260508T120000
DTSTAMP:20260423T233622
CREATED:20260423T220456Z
LAST-MODIFIED:20260423T220456Z
UID:10004110-1778238000-1778241600@www.thecentreatvitazen.com
SUMMARY:Chair Yoga w Glenda
DESCRIPTION:
URL:https://www.thecentreatvitazen.com/calendar/chair-yoga-w-glenda-2/2026-05-08/
LOCATION:The Centre at Vitazen\, Location: 12787 BTW Highway\, Suite 103\, Hardy\, VA\, 24101\, United States
CATEGORIES:Yoga Class
END:VEVENT
BEGIN:VEVENT
DTSTART;TZID=UTC:20260508T130000
DTEND;TZID=UTC:20260508T140000
DTSTAMP:20260423T233622
CREATED:20260423T220649Z
LAST-MODIFIED:20260423T220649Z
UID:10004115-1778245200-1778248800@www.thecentreatvitazen.com
SUMMARY:BeYIN w Glenda
DESCRIPTION:
URL:https://www.thecentreatvitazen.com/calendar/beyin-w-glenda-2/2026-05-08/
LOCATION:The Centre at Vitazen\, Location: 12787 BTW Highway\, Suite 103\, Hardy\, VA\, 24101\, United States
CATEGORIES:Yoga Class
END:VEVENT
BEGIN:VEVENT
DTSTART;TZID=UTC:20260509T110000
DTEND;TZID=UTC:20260509T120000
DTSTAMP:20260423T233622
CREATED:20260328T191920Z
LAST-MODIFIED:20260328T191920Z
UID:10003780-1778324400-1778328000@www.thecentreatvitazen.com
SUMMARY:Saturday Salutation
DESCRIPTION:
URL:https://www.thecentreatvitazen.com/calendar/saturday-salutation/2026-05-09/
LOCATION:The Centre at Vitazen\, Location: 12787 BTW Highway\, Suite 103\, Hardy\, VA\, 24101\, United States
CATEGORIES:Yoga Class
END:VEVENT
BEGIN:VEVENT
DTSTART;TZID=UTC:20260510T110000
DTEND;TZID=UTC:20260510T120000
DTSTAMP:20260423T233622
CREATED:20260423T221315Z
LAST-MODIFIED:20260423T221315Z
UID:10004121-1778410800-1778414400@www.thecentreatvitazen.com
SUMMARY:Soothing Sunday Yoga w Brett
DESCRIPTION:
URL:https://www.thecentreatvitazen.com/calendar/soothing-sunday-yoga-w-brett-2/2026-05-10/
LOCATION:The Centre at Vitazen\, Location: 12787 BTW Highway\, Suite 103\, Hardy\, VA\, 24101\, United States
CATEGORIES:Yoga Class
END:VEVENT
BEGIN:VEVENT
DTSTART;TZID=UTC:20260511T110000
DTEND;TZID=UTC:20260511T120000
DTSTAMP:20260423T233622
CREATED:20260423T221728Z
LAST-MODIFIED:20260423T221728Z
UID:10004127-1778497200-1778500800@www.thecentreatvitazen.com
SUMMARY:Ageless Yogis w Glenda
DESCRIPTION:
URL:https://www.thecentreatvitazen.com/calendar/ageless-yogis-w-glenda-2/2026-05-11/
LOCATION:The Centre at Vitazen\, Location: 12787 BTW Highway\, Suite 103\, Hardy\, VA\, 24101\, United States
CATEGORIES:Yoga Class
END:VEVENT
BEGIN:VEVENT
DTSTART;TZID=UTC:20260511T150000
DTEND;TZID=UTC:20260511T160000
DTSTAMP:20260423T233622
CREATED:20260423T221920Z
LAST-MODIFIED:20260423T221920Z
UID:10004133-1778511600-1778515200@www.thecentreatvitazen.com
SUMMARY:Yoga w Brett
DESCRIPTION:
URL:https://www.thecentreatvitazen.com/calendar/yoga-w-brett-2/2026-05-11/
LOCATION:The Centre at Vitazen\, Location: 12787 BTW Highway\, Suite 103\, Hardy\, VA\, 24101\, United States
CATEGORIES:Yoga Class
END:VEVENT
BEGIN:VEVENT
DTSTART;TZID=UTC:20260511T180000
DTEND;TZID=UTC:20260511T190000
DTSTAMP:20260423T233622
CREATED:20260423T222118Z
LAST-MODIFIED:20260423T222118Z
UID:10004136-1778522400-1778526000@www.thecentreatvitazen.com
SUMMARY:Yoga w Marge
DESCRIPTION:
URL:https://www.thecentreatvitazen.com/calendar/yoga-w-marge-4/2026-05-11/
LOCATION:The Centre at Vitazen\, Location: 12787 BTW Highway\, Suite 103\, Hardy\, VA\, 24101\, United States
CATEGORIES:Yoga Class
END:VEVENT
BEGIN:VEVENT
DTSTART;TZID=UTC:20260512T110000
DTEND;TZID=UTC:20260512T120000
DTSTAMP:20260423T233622
CREATED:20260423T222521Z
LAST-MODIFIED:20260423T222521Z
UID:10004140-1778583600-1778587200@www.thecentreatvitazen.com
SUMMARY:Strong & Balanced w Leslie
DESCRIPTION:
URL:https://www.thecentreatvitazen.com/calendar/strong-balanced-w-leslie-2/2026-05-12/
LOCATION:The Centre at Vitazen\, Location: 12787 BTW Highway\, Suite 103\, Hardy\, VA\, 24101\, United States
CATEGORIES:Yoga Class
END:VEVENT
BEGIN:VEVENT
DTSTART;TZID=UTC:20260512T140000
DTEND;TZID=UTC:20260512T150000
DTSTAMP:20260423T233622
CREATED:20260423T222654Z
LAST-MODIFIED:20260423T222654Z
UID:10004144-1778594400-1778598000@www.thecentreatvitazen.com
SUMMARY:Yoga w Cheran
DESCRIPTION:
URL:https://www.thecentreatvitazen.com/calendar/yoga-w-cheran-3/2026-05-12/
LOCATION:The Centre at Vitazen\, Location: 12787 BTW Highway\, Suite 103\, Hardy\, VA\, 24101\, United States
CATEGORIES:Yoga Class
END:VEVENT
BEGIN:VEVENT
DTSTART;TZID=UTC:20260513T090000
DTEND;TZID=UTC:20260513T100000
DTSTAMP:20260423T233622
CREATED:20260423T222938Z
LAST-MODIFIED:20260423T224301Z
UID:10004168-1778662800-1778666400@www.thecentreatvitazen.com
SUMMARY:Yoga w Elizabeth
DESCRIPTION:
URL:https://www.thecentreatvitazen.com/calendar/yoga-w-elizabeth-2/2026-05-13/
LOCATION:The Centre at Vitazen\, Location: 12787 BTW Highway\, Suite 103\, Hardy\, VA\, 24101\, United States
CATEGORIES:Yoga Class
END:VEVENT
BEGIN:VEVENT
DTSTART;TZID=UTC:20260513T110000
DTEND;TZID=UTC:20260513T120000
DTSTAMP:20260423T233622
CREATED:20260423T221728Z
LAST-MODIFIED:20260423T221728Z
UID:10004128-1778670000-1778673600@www.thecentreatvitazen.com
SUMMARY:Ageless Yogis w Glenda
DESCRIPTION:
URL:https://www.thecentreatvitazen.com/calendar/ageless-yogis-w-glenda-2/2026-05-13/
LOCATION:The Centre at Vitazen\, Location: 12787 BTW Highway\, Suite 103\, Hardy\, VA\, 24101\, United States
CATEGORIES:Yoga Class
END:VEVENT
BEGIN:VEVENT
DTSTART;TZID=UTC:20260513T160000
DTEND;TZID=UTC:20260513T170000
DTSTAMP:20260423T233622
CREATED:20260423T223246Z
LAST-MODIFIED:20260423T223246Z
UID:10004152-1778688000-1778691600@www.thecentreatvitazen.com
SUMMARY:Power Yoga w Brett
DESCRIPTION:
URL:https://www.thecentreatvitazen.com/calendar/power-yoga-w-brett-2/2026-05-13/
LOCATION:The Centre at Vitazen\, Location: 12787 BTW Highway\, Suite 103\, Hardy\, VA\, 24101\, United States
CATEGORIES:Yoga Class
END:VEVENT
BEGIN:VEVENT
DTSTART;TZID=UTC:20260514T090000
DTEND;TZID=UTC:20260514T100000
DTSTAMP:20260423T233622
CREATED:20260423T223516Z
LAST-MODIFIED:20260423T223516Z
UID:10004156-1778749200-1778752800@www.thecentreatvitazen.com
SUMMARY:Yoga w Marge
DESCRIPTION:
URL:https://www.thecentreatvitazen.com/calendar/yoga-w-marge-5/2026-05-14/
LOCATION:The Centre at Vitazen\, Location: 12787 BTW Highway\, Suite 103\, Hardy\, VA\, 24101\, United States
CATEGORIES:Yoga Class
END:VEVENT
BEGIN:VEVENT
DTSTART;TZID=UTC:20260514T110000
DTEND;TZID=UTC:20260514T120000
DTSTAMP:20260423T233622
CREATED:20260423T223709Z
LAST-MODIFIED:20260423T223709Z
UID:10004160-1778756400-1778760000@www.thecentreatvitazen.com
SUMMARY:Gentle Yoga w Cheran
DESCRIPTION:
URL:https://www.thecentreatvitazen.com/calendar/gentle-yoga-w-cheran-2/2026-05-14/
LOCATION:The Centre at Vitazen\, Location: 12787 BTW Highway\, Suite 103\, Hardy\, VA\, 24101\, United States
CATEGORIES:Yoga Class
END:VEVENT
BEGIN:VEVENT
DTSTART;TZID=UTC:20260514T180000
DTEND;TZID=UTC:20260514T190000
DTSTAMP:20260423T233622
CREATED:20260423T223903Z
LAST-MODIFIED:20260423T223903Z
UID:10004164-1778781600-1778785200@www.thecentreatvitazen.com
SUMMARY:Yoga w Cheran
DESCRIPTION:
URL:https://www.thecentreatvitazen.com/calendar/yoga-w-cheran-4/2026-05-14/
LOCATION:The Centre at Vitazen\, Location: 12787 BTW Highway\, Suite 103\, Hardy\, VA\, 24101\, United States
CATEGORIES:Yoga Class
END:VEVENT
BEGIN:VEVENT
DTSTART;TZID=UTC:20260515T090000
DTEND;TZID=UTC:20260515T100000
DTSTAMP:20260423T233622
CREATED:20260423T220323Z
LAST-MODIFIED:20260423T220323Z
UID:10004106-1778835600-1778839200@www.thecentreatvitazen.com
SUMMARY:Yoga w Ann
DESCRIPTION:
URL:https://www.thecentreatvitazen.com/calendar/yoga-w-ann-2/2026-05-15/
LOCATION:The Centre at Vitazen\, Location: 12787 BTW Highway\, Suite 103\, Hardy\, VA\, 24101\, United States
CATEGORIES:Yoga Class
END:VEVENT
BEGIN:VEVENT
DTSTART;TZID=UTC:20260515T110000
DTEND;TZID=UTC:20260515T120000
DTSTAMP:20260423T233622
CREATED:20260423T220456Z
LAST-MODIFIED:20260423T220456Z
UID:10004111-1778842800-1778846400@www.thecentreatvitazen.com
SUMMARY:Chair Yoga w Glenda
DESCRIPTION:
URL:https://www.thecentreatvitazen.com/calendar/chair-yoga-w-glenda-2/2026-05-15/
LOCATION:The Centre at Vitazen\, Location: 12787 BTW Highway\, Suite 103\, Hardy\, VA\, 24101\, United States
CATEGORIES:Yoga Class
END:VEVENT
BEGIN:VEVENT
DTSTART;TZID=UTC:20260515T130000
DTEND;TZID=UTC:20260515T140000
DTSTAMP:20260423T233622
CREATED:20260423T220649Z
LAST-MODIFIED:20260423T220649Z
UID:10004116-1778850000-1778853600@www.thecentreatvitazen.com
SUMMARY:BeYIN w Glenda
DESCRIPTION:
URL:https://www.thecentreatvitazen.com/calendar/beyin-w-glenda-2/2026-05-15/
LOCATION:The Centre at Vitazen\, Location: 12787 BTW Highway\, Suite 103\, Hardy\, VA\, 24101\, United States
CATEGORIES:Yoga Class
END:VEVENT
BEGIN:VEVENT
DTSTART;TZID=UTC:20260515T180000
DTEND;TZID=UTC:20260515T193000
DTSTAMP:20260423T233622
CREATED:20260423T220909Z
LAST-MODIFIED:20260423T220909Z
UID:10004119-1778868000-1778873400@www.thecentreatvitazen.com
SUMMARY:YIN Session 90 minutes
DESCRIPTION:
URL:https://www.thecentreatvitazen.com/calendar/yin-session-90-minutes/
LOCATION:The Centre at Vitazen\, Location: 12787 BTW Highway\, Suite 103\, Hardy\, VA\, 24101\, United States
CATEGORIES:Yoga Class
END:VEVENT
BEGIN:VEVENT
DTSTART;TZID=UTC:20260516T110000
DTEND;TZID=UTC:20260516T120000
DTSTAMP:20260423T233622
CREATED:20260328T191920Z
LAST-MODIFIED:20260328T191920Z
UID:10003781-1778929200-1778932800@www.thecentreatvitazen.com
SUMMARY:Saturday Salutation
DESCRIPTION:
URL:https://www.thecentreatvitazen.com/calendar/saturday-salutation/2026-05-16/
LOCATION:The Centre at Vitazen\, Location: 12787 BTW Highway\, Suite 103\, Hardy\, VA\, 24101\, United States
CATEGORIES:Yoga Class
END:VEVENT
BEGIN:VEVENT
DTSTART;TZID=UTC:20260517T110000
DTEND;TZID=UTC:20260517T120000
DTSTAMP:20260423T233622
CREATED:20260423T221315Z
LAST-MODIFIED:20260423T221315Z
UID:10004122-1779015600-1779019200@www.thecentreatvitazen.com
SUMMARY:Soothing Sunday Yoga w Brett
DESCRIPTION:
URL:https://www.thecentreatvitazen.com/calendar/soothing-sunday-yoga-w-brett-2/2026-05-17/
LOCATION:The Centre at Vitazen\, Location: 12787 BTW Highway\, Suite 103\, Hardy\, VA\, 24101\, United States
CATEGORIES:Yoga Class
END:VEVENT
BEGIN:VEVENT
DTSTART;TZID=UTC:20260518T110000
DTEND;TZID=UTC:20260518T120000
DTSTAMP:20260423T233622
CREATED:20260423T221728Z
LAST-MODIFIED:20260423T221728Z
UID:10004129-1779102000-1779105600@www.thecentreatvitazen.com
SUMMARY:Ageless Yogis w Glenda
DESCRIPTION:
URL:https://www.thecentreatvitazen.com/calendar/ageless-yogis-w-glenda-2/2026-05-18/
LOCATION:The Centre at Vitazen\, Location: 12787 BTW Highway\, Suite 103\, Hardy\, VA\, 24101\, United States
CATEGORIES:Yoga Class
END:VEVENT
BEGIN:VEVENT
DTSTART;TZID=UTC:20260518T150000
DTEND;TZID=UTC:20260518T160000
DTSTAMP:20260423T233622
CREATED:20260423T221920Z
LAST-MODIFIED:20260423T221920Z
UID:10004134-1779116400-1779120000@www.thecentreatvitazen.com
SUMMARY:Yoga w Brett
DESCRIPTION:
URL:https://www.thecentreatvitazen.com/calendar/yoga-w-brett-2/2026-05-18/
LOCATION:The Centre at Vitazen\, Location: 12787 BTW Highway\, Suite 103\, Hardy\, VA\, 24101\, United States
CATEGORIES:Yoga Class
END:VEVENT
BEGIN:VEVENT
DTSTART;TZID=UTC:20260518T180000
DTEND;TZID=UTC:20260518T190000
DTSTAMP:20260423T233622
CREATED:20260423T222118Z
LAST-MODIFIED:20260423T222118Z
UID:10004137-1779127200-1779130800@www.thecentreatvitazen.com
SUMMARY:Yoga w Marge
DESCRIPTION:
URL:https://www.thecentreatvitazen.com/calendar/yoga-w-marge-4/2026-05-18/
LOCATION:The Centre at Vitazen\, Location: 12787 BTW Highway\, Suite 103\, Hardy\, VA\, 24101\, United States
CATEGORIES:Yoga Class
END:VEVENT
BEGIN:VEVENT
DTSTART;TZID=UTC:20260519T110000
DTEND;TZID=UTC:20260519T120000
DTSTAMP:20260423T233622
CREATED:20260423T222521Z
LAST-MODIFIED:20260423T222521Z
UID:10004141-1779188400-1779192000@www.thecentreatvitazen.com
SUMMARY:Strong & Balanced w Leslie
DESCRIPTION:
URL:https://www.thecentreatvitazen.com/calendar/strong-balanced-w-leslie-2/2026-05-19/
LOCATION:The Centre at Vitazen\, Location: 12787 BTW Highway\, Suite 103\, Hardy\, VA\, 24101\, United States
CATEGORIES:Yoga Class
END:VEVENT
BEGIN:VEVENT
DTSTART;TZID=UTC:20260519T140000
DTEND;TZID=UTC:20260519T150000
DTSTAMP:20260423T233622
CREATED:20260423T222654Z
LAST-MODIFIED:20260423T222654Z
UID:10004145-1779199200-1779202800@www.thecentreatvitazen.com
SUMMARY:Yoga w Cheran
DESCRIPTION:
URL:https://www.thecentreatvitazen.com/calendar/yoga-w-cheran-3/2026-05-19/
LOCATION:The Centre at Vitazen\, Location: 12787 BTW Highway\, Suite 103\, Hardy\, VA\, 24101\, United States
CATEGORIES:Yoga Class
END:VEVENT
END:VCALENDAR