BEGIN:VCALENDAR
VERSION:2.0
PRODID:-//The Centre at VitaZen - ECPv6.10.1.1//NONSGML v1.0//EN
CALSCALE:GREGORIAN
METHOD:PUBLISH
X-WR-CALNAME:The Centre at VitaZen
X-ORIGINAL-URL:https://www.thecentreatvitazen.com
X-WR-CALDESC:Events for The Centre at VitaZen
REFRESH-INTERVAL;VALUE=DURATION:PT1H
X-Robots-Tag:noindex
X-PUBLISHED-TTL:PT1H
BEGIN:VTIMEZONE
TZID:UTC
BEGIN:STANDARD
TZOFFSETFROM:+0000
TZOFFSETTO:+0000
TZNAME:UTC
DTSTART:20300101T000000
END:STANDARD
END:VTIMEZONE
BEGIN:VEVENT
DTSTART;TZID=UTC:20300316T110000
DTEND;TZID=UTC:20300316T120000
DTSTAMP:20260421T225153
CREATED:20260328T191920Z
LAST-MODIFIED:20260328T191920Z
UID:10003981-1899889200-1899892800@www.thecentreatvitazen.com
SUMMARY:Saturday Salutation
DESCRIPTION:
URL:https://www.thecentreatvitazen.com/calendar/saturday-salutation/2030-03-16/
LOCATION:The Centre at Vitazen\, Location: 12787 BTW Highway\, Suite 103\, Hardy\, VA\, 24101\, United States
CATEGORIES:Yoga Class
END:VEVENT
BEGIN:VEVENT
DTSTART;TZID=UTC:20300323T110000
DTEND;TZID=UTC:20300323T120000
DTSTAMP:20260421T225153
CREATED:20260328T191920Z
LAST-MODIFIED:20260328T191920Z
UID:10003982-1900494000-1900497600@www.thecentreatvitazen.com
SUMMARY:Saturday Salutation
DESCRIPTION:
URL:https://www.thecentreatvitazen.com/calendar/saturday-salutation/2030-03-23/
LOCATION:The Centre at Vitazen\, Location: 12787 BTW Highway\, Suite 103\, Hardy\, VA\, 24101\, United States
CATEGORIES:Yoga Class
END:VEVENT
BEGIN:VEVENT
DTSTART;TZID=UTC:20300330T110000
DTEND;TZID=UTC:20300330T120000
DTSTAMP:20260421T225153
CREATED:20260328T191920Z
LAST-MODIFIED:20260328T191920Z
UID:10003983-1901098800-1901102400@www.thecentreatvitazen.com
SUMMARY:Saturday Salutation
DESCRIPTION:
URL:https://www.thecentreatvitazen.com/calendar/saturday-salutation/2030-03-30/
LOCATION:The Centre at Vitazen\, Location: 12787 BTW Highway\, Suite 103\, Hardy\, VA\, 24101\, United States
CATEGORIES:Yoga Class
END:VEVENT
BEGIN:VEVENT
DTSTART;TZID=UTC:20300406T110000
DTEND;TZID=UTC:20300406T120000
DTSTAMP:20260421T225153
CREATED:20260328T191920Z
LAST-MODIFIED:20260328T191920Z
UID:10003984-1901703600-1901707200@www.thecentreatvitazen.com
SUMMARY:Saturday Salutation
DESCRIPTION:
URL:https://www.thecentreatvitazen.com/calendar/saturday-salutation/2030-04-06/
LOCATION:The Centre at Vitazen\, Location: 12787 BTW Highway\, Suite 103\, Hardy\, VA\, 24101\, United States
CATEGORIES:Yoga Class
END:VEVENT
BEGIN:VEVENT
DTSTART;TZID=UTC:20300413T110000
DTEND;TZID=UTC:20300413T120000
DTSTAMP:20260421T225153
CREATED:20260328T191920Z
LAST-MODIFIED:20260328T191920Z
UID:10003985-1902308400-1902312000@www.thecentreatvitazen.com
SUMMARY:Saturday Salutation
DESCRIPTION:
URL:https://www.thecentreatvitazen.com/calendar/saturday-salutation/2030-04-13/
LOCATION:The Centre at Vitazen\, Location: 12787 BTW Highway\, Suite 103\, Hardy\, VA\, 24101\, United States
CATEGORIES:Yoga Class
END:VEVENT
BEGIN:VEVENT
DTSTART;TZID=UTC:20300420T110000
DTEND;TZID=UTC:20300420T120000
DTSTAMP:20260421T225153
CREATED:20260328T191920Z
LAST-MODIFIED:20260328T191920Z
UID:10003986-1902913200-1902916800@www.thecentreatvitazen.com
SUMMARY:Saturday Salutation
DESCRIPTION:
URL:https://www.thecentreatvitazen.com/calendar/saturday-salutation/2030-04-20/
LOCATION:The Centre at Vitazen\, Location: 12787 BTW Highway\, Suite 103\, Hardy\, VA\, 24101\, United States
CATEGORIES:Yoga Class
END:VEVENT
BEGIN:VEVENT
DTSTART;TZID=UTC:20300427T110000
DTEND;TZID=UTC:20300427T120000
DTSTAMP:20260421T225153
CREATED:20260328T191920Z
LAST-MODIFIED:20260328T191920Z
UID:10003987-1903518000-1903521600@www.thecentreatvitazen.com
SUMMARY:Saturday Salutation
DESCRIPTION:
URL:https://www.thecentreatvitazen.com/calendar/saturday-salutation/2030-04-27/
LOCATION:The Centre at Vitazen\, Location: 12787 BTW Highway\, Suite 103\, Hardy\, VA\, 24101\, United States
CATEGORIES:Yoga Class
END:VEVENT
BEGIN:VEVENT
DTSTART;TZID=UTC:20300504T110000
DTEND;TZID=UTC:20300504T120000
DTSTAMP:20260421T225153
CREATED:20260328T191920Z
LAST-MODIFIED:20260328T191920Z
UID:10003988-1904122800-1904126400@www.thecentreatvitazen.com
SUMMARY:Saturday Salutation
DESCRIPTION:
URL:https://www.thecentreatvitazen.com/calendar/saturday-salutation/2030-05-04/
LOCATION:The Centre at Vitazen\, Location: 12787 BTW Highway\, Suite 103\, Hardy\, VA\, 24101\, United States
CATEGORIES:Yoga Class
END:VEVENT
BEGIN:VEVENT
DTSTART;TZID=UTC:20300511T110000
DTEND;TZID=UTC:20300511T120000
DTSTAMP:20260421T225153
CREATED:20260328T191920Z
LAST-MODIFIED:20260328T191920Z
UID:10003989-1904727600-1904731200@www.thecentreatvitazen.com
SUMMARY:Saturday Salutation
DESCRIPTION:
URL:https://www.thecentreatvitazen.com/calendar/saturday-salutation/2030-05-11/
LOCATION:The Centre at Vitazen\, Location: 12787 BTW Highway\, Suite 103\, Hardy\, VA\, 24101\, United States
CATEGORIES:Yoga Class
END:VEVENT
BEGIN:VEVENT
DTSTART;TZID=UTC:20300518T110000
DTEND;TZID=UTC:20300518T120000
DTSTAMP:20260421T225153
CREATED:20260328T191920Z
LAST-MODIFIED:20260328T191920Z
UID:10003990-1905332400-1905336000@www.thecentreatvitazen.com
SUMMARY:Saturday Salutation
DESCRIPTION:
URL:https://www.thecentreatvitazen.com/calendar/saturday-salutation/2030-05-18/
LOCATION:The Centre at Vitazen\, Location: 12787 BTW Highway\, Suite 103\, Hardy\, VA\, 24101\, United States
CATEGORIES:Yoga Class
END:VEVENT
BEGIN:VEVENT
DTSTART;TZID=UTC:20300525T110000
DTEND;TZID=UTC:20300525T120000
DTSTAMP:20260421T225153
CREATED:20260328T191920Z
LAST-MODIFIED:20260328T191920Z
UID:10003991-1905937200-1905940800@www.thecentreatvitazen.com
SUMMARY:Saturday Salutation
DESCRIPTION:
URL:https://www.thecentreatvitazen.com/calendar/saturday-salutation/2030-05-25/
LOCATION:The Centre at Vitazen\, Location: 12787 BTW Highway\, Suite 103\, Hardy\, VA\, 24101\, United States
CATEGORIES:Yoga Class
END:VEVENT
BEGIN:VEVENT
DTSTART;TZID=UTC:20300601T110000
DTEND;TZID=UTC:20300601T120000
DTSTAMP:20260421T225153
CREATED:20260328T191920Z
LAST-MODIFIED:20260328T191920Z
UID:10003992-1906542000-1906545600@www.thecentreatvitazen.com
SUMMARY:Saturday Salutation
DESCRIPTION:
URL:https://www.thecentreatvitazen.com/calendar/saturday-salutation/2030-06-01/
LOCATION:The Centre at Vitazen\, Location: 12787 BTW Highway\, Suite 103\, Hardy\, VA\, 24101\, United States
CATEGORIES:Yoga Class
END:VEVENT
BEGIN:VEVENT
DTSTART;TZID=UTC:20300608T110000
DTEND;TZID=UTC:20300608T120000
DTSTAMP:20260421T225153
CREATED:20260328T191920Z
LAST-MODIFIED:20260328T191920Z
UID:10003993-1907146800-1907150400@www.thecentreatvitazen.com
SUMMARY:Saturday Salutation
DESCRIPTION:
URL:https://www.thecentreatvitazen.com/calendar/saturday-salutation/2030-06-08/
LOCATION:The Centre at Vitazen\, Location: 12787 BTW Highway\, Suite 103\, Hardy\, VA\, 24101\, United States
CATEGORIES:Yoga Class
END:VEVENT
BEGIN:VEVENT
DTSTART;TZID=UTC:20300615T110000
DTEND;TZID=UTC:20300615T120000
DTSTAMP:20260421T225153
CREATED:20260328T191920Z
LAST-MODIFIED:20260328T191920Z
UID:10003994-1907751600-1907755200@www.thecentreatvitazen.com
SUMMARY:Saturday Salutation
DESCRIPTION:
URL:https://www.thecentreatvitazen.com/calendar/saturday-salutation/2030-06-15/
LOCATION:The Centre at Vitazen\, Location: 12787 BTW Highway\, Suite 103\, Hardy\, VA\, 24101\, United States
CATEGORIES:Yoga Class
END:VEVENT
BEGIN:VEVENT
DTSTART;TZID=UTC:20300622T110000
DTEND;TZID=UTC:20300622T120000
DTSTAMP:20260421T225153
CREATED:20260328T191920Z
LAST-MODIFIED:20260328T191920Z
UID:10003995-1908356400-1908360000@www.thecentreatvitazen.com
SUMMARY:Saturday Salutation
DESCRIPTION:
URL:https://www.thecentreatvitazen.com/calendar/saturday-salutation/2030-06-22/
LOCATION:The Centre at Vitazen\, Location: 12787 BTW Highway\, Suite 103\, Hardy\, VA\, 24101\, United States
CATEGORIES:Yoga Class
END:VEVENT
BEGIN:VEVENT
DTSTART;TZID=UTC:20300629T110000
DTEND;TZID=UTC:20300629T120000
DTSTAMP:20260421T225153
CREATED:20260328T191920Z
LAST-MODIFIED:20260328T191920Z
UID:10003996-1908961200-1908964800@www.thecentreatvitazen.com
SUMMARY:Saturday Salutation
DESCRIPTION:
URL:https://www.thecentreatvitazen.com/calendar/saturday-salutation/2030-06-29/
LOCATION:The Centre at Vitazen\, Location: 12787 BTW Highway\, Suite 103\, Hardy\, VA\, 24101\, United States
CATEGORIES:Yoga Class
END:VEVENT
BEGIN:VEVENT
DTSTART;TZID=UTC:20300706T110000
DTEND;TZID=UTC:20300706T120000
DTSTAMP:20260421T225153
CREATED:20260328T191920Z
LAST-MODIFIED:20260328T191920Z
UID:10003997-1909566000-1909569600@www.thecentreatvitazen.com
SUMMARY:Saturday Salutation
DESCRIPTION:
URL:https://www.thecentreatvitazen.com/calendar/saturday-salutation/2030-07-06/
LOCATION:The Centre at Vitazen\, Location: 12787 BTW Highway\, Suite 103\, Hardy\, VA\, 24101\, United States
CATEGORIES:Yoga Class
END:VEVENT
BEGIN:VEVENT
DTSTART;TZID=UTC:20300713T110000
DTEND;TZID=UTC:20300713T120000
DTSTAMP:20260421T225153
CREATED:20260328T191920Z
LAST-MODIFIED:20260328T191920Z
UID:10003998-1910170800-1910174400@www.thecentreatvitazen.com
SUMMARY:Saturday Salutation
DESCRIPTION:
URL:https://www.thecentreatvitazen.com/calendar/saturday-salutation/2030-07-13/
LOCATION:The Centre at Vitazen\, Location: 12787 BTW Highway\, Suite 103\, Hardy\, VA\, 24101\, United States
CATEGORIES:Yoga Class
END:VEVENT
BEGIN:VEVENT
DTSTART;TZID=UTC:20300720T110000
DTEND;TZID=UTC:20300720T120000
DTSTAMP:20260421T225153
CREATED:20260328T191920Z
LAST-MODIFIED:20260328T191920Z
UID:10003999-1910775600-1910779200@www.thecentreatvitazen.com
SUMMARY:Saturday Salutation
DESCRIPTION:
URL:https://www.thecentreatvitazen.com/calendar/saturday-salutation/2030-07-20/
LOCATION:The Centre at Vitazen\, Location: 12787 BTW Highway\, Suite 103\, Hardy\, VA\, 24101\, United States
CATEGORIES:Yoga Class
END:VEVENT
BEGIN:VEVENT
DTSTART;TZID=UTC:20300727T110000
DTEND;TZID=UTC:20300727T120000
DTSTAMP:20260421T225153
CREATED:20260328T191920Z
LAST-MODIFIED:20260328T191920Z
UID:10004000-1911380400-1911384000@www.thecentreatvitazen.com
SUMMARY:Saturday Salutation
DESCRIPTION:
URL:https://www.thecentreatvitazen.com/calendar/saturday-salutation/2030-07-27/
LOCATION:The Centre at Vitazen\, Location: 12787 BTW Highway\, Suite 103\, Hardy\, VA\, 24101\, United States
CATEGORIES:Yoga Class
END:VEVENT
BEGIN:VEVENT
DTSTART;TZID=UTC:20300803T110000
DTEND;TZID=UTC:20300803T120000
DTSTAMP:20260421T225153
CREATED:20260328T191920Z
LAST-MODIFIED:20260328T191920Z
UID:10004001-1911985200-1911988800@www.thecentreatvitazen.com
SUMMARY:Saturday Salutation
DESCRIPTION:
URL:https://www.thecentreatvitazen.com/calendar/saturday-salutation/2030-08-03/
LOCATION:The Centre at Vitazen\, Location: 12787 BTW Highway\, Suite 103\, Hardy\, VA\, 24101\, United States
CATEGORIES:Yoga Class
END:VEVENT
BEGIN:VEVENT
DTSTART;TZID=UTC:20300810T110000
DTEND;TZID=UTC:20300810T120000
DTSTAMP:20260421T225153
CREATED:20260328T191920Z
LAST-MODIFIED:20260328T191920Z
UID:10004002-1912590000-1912593600@www.thecentreatvitazen.com
SUMMARY:Saturday Salutation
DESCRIPTION:
URL:https://www.thecentreatvitazen.com/calendar/saturday-salutation/2030-08-10/
LOCATION:The Centre at Vitazen\, Location: 12787 BTW Highway\, Suite 103\, Hardy\, VA\, 24101\, United States
CATEGORIES:Yoga Class
END:VEVENT
BEGIN:VEVENT
DTSTART;TZID=UTC:20300817T110000
DTEND;TZID=UTC:20300817T120000
DTSTAMP:20260421T225153
CREATED:20260328T191920Z
LAST-MODIFIED:20260328T191920Z
UID:10004003-1913194800-1913198400@www.thecentreatvitazen.com
SUMMARY:Saturday Salutation
DESCRIPTION:
URL:https://www.thecentreatvitazen.com/calendar/saturday-salutation/2030-08-17/
LOCATION:The Centre at Vitazen\, Location: 12787 BTW Highway\, Suite 103\, Hardy\, VA\, 24101\, United States
CATEGORIES:Yoga Class
END:VEVENT
BEGIN:VEVENT
DTSTART;TZID=UTC:20300824T110000
DTEND;TZID=UTC:20300824T120000
DTSTAMP:20260421T225153
CREATED:20260328T191920Z
LAST-MODIFIED:20260328T191920Z
UID:10004004-1913799600-1913803200@www.thecentreatvitazen.com
SUMMARY:Saturday Salutation
DESCRIPTION:
URL:https://www.thecentreatvitazen.com/calendar/saturday-salutation/2030-08-24/
LOCATION:The Centre at Vitazen\, Location: 12787 BTW Highway\, Suite 103\, Hardy\, VA\, 24101\, United States
CATEGORIES:Yoga Class
END:VEVENT
BEGIN:VEVENT
DTSTART;TZID=UTC:20300831T110000
DTEND;TZID=UTC:20300831T120000
DTSTAMP:20260421T225153
CREATED:20260328T191920Z
LAST-MODIFIED:20260328T191920Z
UID:10004005-1914404400-1914408000@www.thecentreatvitazen.com
SUMMARY:Saturday Salutation
DESCRIPTION:
URL:https://www.thecentreatvitazen.com/calendar/saturday-salutation/2030-08-31/
LOCATION:The Centre at Vitazen\, Location: 12787 BTW Highway\, Suite 103\, Hardy\, VA\, 24101\, United States
CATEGORIES:Yoga Class
END:VEVENT
BEGIN:VEVENT
DTSTART;TZID=UTC:20300907T110000
DTEND;TZID=UTC:20300907T120000
DTSTAMP:20260421T225153
CREATED:20260328T191920Z
LAST-MODIFIED:20260328T191920Z
UID:10004006-1915009200-1915012800@www.thecentreatvitazen.com
SUMMARY:Saturday Salutation
DESCRIPTION:
URL:https://www.thecentreatvitazen.com/calendar/saturday-salutation/2030-09-07/
LOCATION:The Centre at Vitazen\, Location: 12787 BTW Highway\, Suite 103\, Hardy\, VA\, 24101\, United States
CATEGORIES:Yoga Class
END:VEVENT
BEGIN:VEVENT
DTSTART;TZID=UTC:20300914T110000
DTEND;TZID=UTC:20300914T120000
DTSTAMP:20260421T225153
CREATED:20260328T191920Z
LAST-MODIFIED:20260328T191920Z
UID:10004007-1915614000-1915617600@www.thecentreatvitazen.com
SUMMARY:Saturday Salutation
DESCRIPTION:
URL:https://www.thecentreatvitazen.com/calendar/saturday-salutation/2030-09-14/
LOCATION:The Centre at Vitazen\, Location: 12787 BTW Highway\, Suite 103\, Hardy\, VA\, 24101\, United States
CATEGORIES:Yoga Class
END:VEVENT
BEGIN:VEVENT
DTSTART;TZID=UTC:20300921T110000
DTEND;TZID=UTC:20300921T120000
DTSTAMP:20260421T225153
CREATED:20260328T191920Z
LAST-MODIFIED:20260328T191920Z
UID:10004008-1916218800-1916222400@www.thecentreatvitazen.com
SUMMARY:Saturday Salutation
DESCRIPTION:
URL:https://www.thecentreatvitazen.com/calendar/saturday-salutation/2030-09-21/
LOCATION:The Centre at Vitazen\, Location: 12787 BTW Highway\, Suite 103\, Hardy\, VA\, 24101\, United States
CATEGORIES:Yoga Class
END:VEVENT
BEGIN:VEVENT
DTSTART;TZID=UTC:20300928T110000
DTEND;TZID=UTC:20300928T120000
DTSTAMP:20260421T225153
CREATED:20260328T191920Z
LAST-MODIFIED:20260328T191920Z
UID:10004009-1916823600-1916827200@www.thecentreatvitazen.com
SUMMARY:Saturday Salutation
DESCRIPTION:
URL:https://www.thecentreatvitazen.com/calendar/saturday-salutation/2030-09-28/
LOCATION:The Centre at Vitazen\, Location: 12787 BTW Highway\, Suite 103\, Hardy\, VA\, 24101\, United States
CATEGORIES:Yoga Class
END:VEVENT
BEGIN:VEVENT
DTSTART;TZID=UTC:20301005T110000
DTEND;TZID=UTC:20301005T120000
DTSTAMP:20260421T225153
CREATED:20260328T191920Z
LAST-MODIFIED:20260328T191920Z
UID:10004010-1917428400-1917432000@www.thecentreatvitazen.com
SUMMARY:Saturday Salutation
DESCRIPTION:
URL:https://www.thecentreatvitazen.com/calendar/saturday-salutation/2030-10-05/
LOCATION:The Centre at Vitazen\, Location: 12787 BTW Highway\, Suite 103\, Hardy\, VA\, 24101\, United States
CATEGORIES:Yoga Class
END:VEVENT
END:VCALENDAR