BEGIN:VCALENDAR
VERSION:2.0
PRODID:-//The Centre at VitaZen - ECPv6.10.1.1//NONSGML v1.0//EN
CALSCALE:GREGORIAN
METHOD:PUBLISH
X-WR-CALNAME:The Centre at VitaZen
X-ORIGINAL-URL:https://www.thecentreatvitazen.com
X-WR-CALDESC:Events for The Centre at VitaZen
REFRESH-INTERVAL;VALUE=DURATION:PT1H
X-Robots-Tag:noindex
X-PUBLISHED-TTL:PT1H
BEGIN:VTIMEZONE
TZID:UTC
BEGIN:STANDARD
TZOFFSETFROM:+0000
TZOFFSETTO:+0000
TZNAME:UTC
DTSTART:20260101T000000
END:STANDARD
END:VTIMEZONE
BEGIN:VEVENT
DTSTART;TZID=UTC:20260912T110000
DTEND;TZID=UTC:20260912T120000
DTSTAMP:20260423T233437
CREATED:20260328T191920Z
LAST-MODIFIED:20260328T191920Z
UID:10003798-1789210800-1789214400@www.thecentreatvitazen.com
SUMMARY:Saturday Salutation
DESCRIPTION:
URL:https://www.thecentreatvitazen.com/calendar/saturday-salutation/2026-09-12/
LOCATION:The Centre at Vitazen\, Location: 12787 BTW Highway\, Suite 103\, Hardy\, VA\, 24101\, United States
CATEGORIES:Yoga Class
END:VEVENT
BEGIN:VEVENT
DTSTART;TZID=UTC:20260905T110000
DTEND;TZID=UTC:20260905T120000
DTSTAMP:20260423T233437
CREATED:20260328T191920Z
LAST-MODIFIED:20260328T191920Z
UID:10003797-1788606000-1788609600@www.thecentreatvitazen.com
SUMMARY:Saturday Salutation
DESCRIPTION:
URL:https://www.thecentreatvitazen.com/calendar/saturday-salutation/2026-09-05/
LOCATION:The Centre at Vitazen\, Location: 12787 BTW Highway\, Suite 103\, Hardy\, VA\, 24101\, United States
CATEGORIES:Yoga Class
END:VEVENT
BEGIN:VEVENT
DTSTART;TZID=UTC:20260829T110000
DTEND;TZID=UTC:20260829T120000
DTSTAMP:20260423T233437
CREATED:20260328T191920Z
LAST-MODIFIED:20260328T191920Z
UID:10003796-1788001200-1788004800@www.thecentreatvitazen.com
SUMMARY:Saturday Salutation
DESCRIPTION:
URL:https://www.thecentreatvitazen.com/calendar/saturday-salutation/2026-08-29/
LOCATION:The Centre at Vitazen\, Location: 12787 BTW Highway\, Suite 103\, Hardy\, VA\, 24101\, United States
CATEGORIES:Yoga Class
END:VEVENT
BEGIN:VEVENT
DTSTART;TZID=UTC:20260822T110000
DTEND;TZID=UTC:20260822T120000
DTSTAMP:20260423T233437
CREATED:20260328T191920Z
LAST-MODIFIED:20260328T191920Z
UID:10003795-1787396400-1787400000@www.thecentreatvitazen.com
SUMMARY:Saturday Salutation
DESCRIPTION:
URL:https://www.thecentreatvitazen.com/calendar/saturday-salutation/2026-08-22/
LOCATION:The Centre at Vitazen\, Location: 12787 BTW Highway\, Suite 103\, Hardy\, VA\, 24101\, United States
CATEGORIES:Yoga Class
END:VEVENT
BEGIN:VEVENT
DTSTART;TZID=UTC:20260815T110000
DTEND;TZID=UTC:20260815T120000
DTSTAMP:20260423T233437
CREATED:20260328T191920Z
LAST-MODIFIED:20260328T191920Z
UID:10003794-1786791600-1786795200@www.thecentreatvitazen.com
SUMMARY:Saturday Salutation
DESCRIPTION:
URL:https://www.thecentreatvitazen.com/calendar/saturday-salutation/2026-08-15/
LOCATION:The Centre at Vitazen\, Location: 12787 BTW Highway\, Suite 103\, Hardy\, VA\, 24101\, United States
CATEGORIES:Yoga Class
END:VEVENT
BEGIN:VEVENT
DTSTART;TZID=UTC:20260808T110000
DTEND;TZID=UTC:20260808T120000
DTSTAMP:20260423T233437
CREATED:20260328T191920Z
LAST-MODIFIED:20260328T191920Z
UID:10003793-1786186800-1786190400@www.thecentreatvitazen.com
SUMMARY:Saturday Salutation
DESCRIPTION:
URL:https://www.thecentreatvitazen.com/calendar/saturday-salutation/2026-08-08/
LOCATION:The Centre at Vitazen\, Location: 12787 BTW Highway\, Suite 103\, Hardy\, VA\, 24101\, United States
CATEGORIES:Yoga Class
END:VEVENT
BEGIN:VEVENT
DTSTART;TZID=UTC:20260801T110000
DTEND;TZID=UTC:20260801T120000
DTSTAMP:20260423T233437
CREATED:20260328T191920Z
LAST-MODIFIED:20260328T191920Z
UID:10003792-1785582000-1785585600@www.thecentreatvitazen.com
SUMMARY:Saturday Salutation
DESCRIPTION:
URL:https://www.thecentreatvitazen.com/calendar/saturday-salutation/2026-08-01/
LOCATION:The Centre at Vitazen\, Location: 12787 BTW Highway\, Suite 103\, Hardy\, VA\, 24101\, United States
CATEGORIES:Yoga Class
END:VEVENT
BEGIN:VEVENT
DTSTART;TZID=UTC:20260725T110000
DTEND;TZID=UTC:20260725T120000
DTSTAMP:20260423T233437
CREATED:20260328T191920Z
LAST-MODIFIED:20260328T191920Z
UID:10003791-1784977200-1784980800@www.thecentreatvitazen.com
SUMMARY:Saturday Salutation
DESCRIPTION:
URL:https://www.thecentreatvitazen.com/calendar/saturday-salutation/2026-07-25/
LOCATION:The Centre at Vitazen\, Location: 12787 BTW Highway\, Suite 103\, Hardy\, VA\, 24101\, United States
CATEGORIES:Yoga Class
END:VEVENT
BEGIN:VEVENT
DTSTART;TZID=UTC:20260718T110000
DTEND;TZID=UTC:20260718T120000
DTSTAMP:20260423T233437
CREATED:20260328T191920Z
LAST-MODIFIED:20260328T191920Z
UID:10003790-1784372400-1784376000@www.thecentreatvitazen.com
SUMMARY:Saturday Salutation
DESCRIPTION:
URL:https://www.thecentreatvitazen.com/calendar/saturday-salutation/2026-07-18/
LOCATION:The Centre at Vitazen\, Location: 12787 BTW Highway\, Suite 103\, Hardy\, VA\, 24101\, United States
CATEGORIES:Yoga Class
END:VEVENT
BEGIN:VEVENT
DTSTART;TZID=UTC:20260711T110000
DTEND;TZID=UTC:20260711T120000
DTSTAMP:20260423T233437
CREATED:20260328T191920Z
LAST-MODIFIED:20260328T191920Z
UID:10003789-1783767600-1783771200@www.thecentreatvitazen.com
SUMMARY:Saturday Salutation
DESCRIPTION:
URL:https://www.thecentreatvitazen.com/calendar/saturday-salutation/2026-07-11/
LOCATION:The Centre at Vitazen\, Location: 12787 BTW Highway\, Suite 103\, Hardy\, VA\, 24101\, United States
CATEGORIES:Yoga Class
END:VEVENT
BEGIN:VEVENT
DTSTART;TZID=UTC:20260704T110000
DTEND;TZID=UTC:20260704T120000
DTSTAMP:20260423T233437
CREATED:20260328T191920Z
LAST-MODIFIED:20260328T191920Z
UID:10003788-1783162800-1783166400@www.thecentreatvitazen.com
SUMMARY:Saturday Salutation
DESCRIPTION:
URL:https://www.thecentreatvitazen.com/calendar/saturday-salutation/2026-07-04/
LOCATION:The Centre at Vitazen\, Location: 12787 BTW Highway\, Suite 103\, Hardy\, VA\, 24101\, United States
CATEGORIES:Yoga Class
END:VEVENT
BEGIN:VEVENT
DTSTART;TZID=UTC:20260627T110000
DTEND;TZID=UTC:20260627T120000
DTSTAMP:20260423T233437
CREATED:20260328T191920Z
LAST-MODIFIED:20260328T191920Z
UID:10003787-1782558000-1782561600@www.thecentreatvitazen.com
SUMMARY:Saturday Salutation
DESCRIPTION:
URL:https://www.thecentreatvitazen.com/calendar/saturday-salutation/2026-06-27/
LOCATION:The Centre at Vitazen\, Location: 12787 BTW Highway\, Suite 103\, Hardy\, VA\, 24101\, United States
CATEGORIES:Yoga Class
END:VEVENT
BEGIN:VEVENT
DTSTART;TZID=UTC:20260620T110000
DTEND;TZID=UTC:20260620T120000
DTSTAMP:20260423T233437
CREATED:20260328T191920Z
LAST-MODIFIED:20260328T191920Z
UID:10003786-1781953200-1781956800@www.thecentreatvitazen.com
SUMMARY:Saturday Salutation
DESCRIPTION:
URL:https://www.thecentreatvitazen.com/calendar/saturday-salutation/2026-06-20/
LOCATION:The Centre at Vitazen\, Location: 12787 BTW Highway\, Suite 103\, Hardy\, VA\, 24101\, United States
CATEGORIES:Yoga Class
END:VEVENT
BEGIN:VEVENT
DTSTART;TZID=UTC:20260613T110000
DTEND;TZID=UTC:20260613T120000
DTSTAMP:20260423T233437
CREATED:20260328T191920Z
LAST-MODIFIED:20260328T191920Z
UID:10003785-1781348400-1781352000@www.thecentreatvitazen.com
SUMMARY:Saturday Salutation
DESCRIPTION:
URL:https://www.thecentreatvitazen.com/calendar/saturday-salutation/2026-06-13/
LOCATION:The Centre at Vitazen\, Location: 12787 BTW Highway\, Suite 103\, Hardy\, VA\, 24101\, United States
CATEGORIES:Yoga Class
END:VEVENT
BEGIN:VEVENT
DTSTART;TZID=UTC:20260606T110000
DTEND;TZID=UTC:20260606T120000
DTSTAMP:20260423T233437
CREATED:20260328T191920Z
LAST-MODIFIED:20260328T191920Z
UID:10003784-1780743600-1780747200@www.thecentreatvitazen.com
SUMMARY:Saturday Salutation
DESCRIPTION:
URL:https://www.thecentreatvitazen.com/calendar/saturday-salutation/2026-06-06/
LOCATION:The Centre at Vitazen\, Location: 12787 BTW Highway\, Suite 103\, Hardy\, VA\, 24101\, United States
CATEGORIES:Yoga Class
END:VEVENT
BEGIN:VEVENT
DTSTART;TZID=UTC:20260531T110000
DTEND;TZID=UTC:20260531T120000
DTSTAMP:20260423T233437
CREATED:20260423T221315Z
LAST-MODIFIED:20260423T221315Z
UID:10004124-1780225200-1780228800@www.thecentreatvitazen.com
SUMMARY:Soothing Sunday Yoga w Brett
DESCRIPTION:
URL:https://www.thecentreatvitazen.com/calendar/soothing-sunday-yoga-w-brett-2/2026-05-31/
LOCATION:The Centre at Vitazen\, Location: 12787 BTW Highway\, Suite 103\, Hardy\, VA\, 24101\, United States
CATEGORIES:Yoga Class
END:VEVENT
BEGIN:VEVENT
DTSTART;TZID=UTC:20260530T110000
DTEND;TZID=UTC:20260530T120000
DTSTAMP:20260423T233437
CREATED:20260328T191920Z
LAST-MODIFIED:20260328T191920Z
UID:10003783-1780138800-1780142400@www.thecentreatvitazen.com
SUMMARY:Saturday Salutation
DESCRIPTION:
URL:https://www.thecentreatvitazen.com/calendar/saturday-salutation/2026-05-30/
LOCATION:The Centre at Vitazen\, Location: 12787 BTW Highway\, Suite 103\, Hardy\, VA\, 24101\, United States
CATEGORIES:Yoga Class
END:VEVENT
BEGIN:VEVENT
DTSTART;TZID=UTC:20260529T130000
DTEND;TZID=UTC:20260529T140000
DTSTAMP:20260423T233437
CREATED:20260423T220649Z
LAST-MODIFIED:20260423T220649Z
UID:10004118-1780059600-1780063200@www.thecentreatvitazen.com
SUMMARY:BeYIN w Glenda
DESCRIPTION:
URL:https://www.thecentreatvitazen.com/calendar/beyin-w-glenda-2/2026-05-29/
LOCATION:The Centre at Vitazen\, Location: 12787 BTW Highway\, Suite 103\, Hardy\, VA\, 24101\, United States
CATEGORIES:Yoga Class
END:VEVENT
BEGIN:VEVENT
DTSTART;TZID=UTC:20260529T110000
DTEND;TZID=UTC:20260529T120000
DTSTAMP:20260423T233437
CREATED:20260423T220456Z
LAST-MODIFIED:20260423T220456Z
UID:10004113-1780052400-1780056000@www.thecentreatvitazen.com
SUMMARY:Chair Yoga w Glenda
DESCRIPTION:
URL:https://www.thecentreatvitazen.com/calendar/chair-yoga-w-glenda-2/2026-05-29/
LOCATION:The Centre at Vitazen\, Location: 12787 BTW Highway\, Suite 103\, Hardy\, VA\, 24101\, United States
CATEGORIES:Yoga Class
END:VEVENT
BEGIN:VEVENT
DTSTART;TZID=UTC:20260529T090000
DTEND;TZID=UTC:20260529T100000
DTSTAMP:20260423T233437
CREATED:20260423T220323Z
LAST-MODIFIED:20260423T220323Z
UID:10004108-1780045200-1780048800@www.thecentreatvitazen.com
SUMMARY:Yoga w Ann
DESCRIPTION:
URL:https://www.thecentreatvitazen.com/calendar/yoga-w-ann-2/2026-05-29/
LOCATION:The Centre at Vitazen\, Location: 12787 BTW Highway\, Suite 103\, Hardy\, VA\, 24101\, United States
CATEGORIES:Yoga Class
END:VEVENT
BEGIN:VEVENT
DTSTART;TZID=UTC:20260528T180000
DTEND;TZID=UTC:20260528T190000
DTSTAMP:20260423T233437
CREATED:20260423T223903Z
LAST-MODIFIED:20260423T223903Z
UID:10004166-1779991200-1779994800@www.thecentreatvitazen.com
SUMMARY:Yoga w Cheran
DESCRIPTION:
URL:https://www.thecentreatvitazen.com/calendar/yoga-w-cheran-4/2026-05-28/
LOCATION:The Centre at Vitazen\, Location: 12787 BTW Highway\, Suite 103\, Hardy\, VA\, 24101\, United States
CATEGORIES:Yoga Class
END:VEVENT
BEGIN:VEVENT
DTSTART;TZID=UTC:20260528T110000
DTEND;TZID=UTC:20260528T120000
DTSTAMP:20260423T233437
CREATED:20260423T223709Z
LAST-MODIFIED:20260423T223709Z
UID:10004162-1779966000-1779969600@www.thecentreatvitazen.com
SUMMARY:Gentle Yoga w Cheran
DESCRIPTION:
URL:https://www.thecentreatvitazen.com/calendar/gentle-yoga-w-cheran-2/2026-05-28/
LOCATION:The Centre at Vitazen\, Location: 12787 BTW Highway\, Suite 103\, Hardy\, VA\, 24101\, United States
CATEGORIES:Yoga Class
END:VEVENT
BEGIN:VEVENT
DTSTART;TZID=UTC:20260528T090000
DTEND;TZID=UTC:20260528T100000
DTSTAMP:20260423T233437
CREATED:20260423T223516Z
LAST-MODIFIED:20260423T223516Z
UID:10004158-1779958800-1779962400@www.thecentreatvitazen.com
SUMMARY:Yoga w Marge
DESCRIPTION:
URL:https://www.thecentreatvitazen.com/calendar/yoga-w-marge-5/2026-05-28/
LOCATION:The Centre at Vitazen\, Location: 12787 BTW Highway\, Suite 103\, Hardy\, VA\, 24101\, United States
CATEGORIES:Yoga Class
END:VEVENT
BEGIN:VEVENT
DTSTART;TZID=UTC:20260527T160000
DTEND;TZID=UTC:20260527T170000
DTSTAMP:20260423T233437
CREATED:20260423T223246Z
LAST-MODIFIED:20260423T223246Z
UID:10004154-1779897600-1779901200@www.thecentreatvitazen.com
SUMMARY:Power Yoga w Brett
DESCRIPTION:
URL:https://www.thecentreatvitazen.com/calendar/power-yoga-w-brett-2/2026-05-27/
LOCATION:The Centre at Vitazen\, Location: 12787 BTW Highway\, Suite 103\, Hardy\, VA\, 24101\, United States
CATEGORIES:Yoga Class
END:VEVENT
BEGIN:VEVENT
DTSTART;TZID=UTC:20260527T110000
DTEND;TZID=UTC:20260527T120000
DTSTAMP:20260423T233437
CREATED:20260423T221728Z
LAST-MODIFIED:20260423T221728Z
UID:10004131-1779879600-1779883200@www.thecentreatvitazen.com
SUMMARY:Ageless Yogis w Glenda
DESCRIPTION:
URL:https://www.thecentreatvitazen.com/calendar/ageless-yogis-w-glenda-2/2026-05-27/
LOCATION:The Centre at Vitazen\, Location: 12787 BTW Highway\, Suite 103\, Hardy\, VA\, 24101\, United States
CATEGORIES:Yoga Class
END:VEVENT
BEGIN:VEVENT
DTSTART;TZID=UTC:20260527T090000
DTEND;TZID=UTC:20260527T100000
DTSTAMP:20260423T233437
CREATED:20260423T222938Z
LAST-MODIFIED:20260423T224301Z
UID:10004170-1779872400-1779876000@www.thecentreatvitazen.com
SUMMARY:Yoga w Elizabeth
DESCRIPTION:
URL:https://www.thecentreatvitazen.com/calendar/yoga-w-elizabeth-2/2026-05-27/
LOCATION:The Centre at Vitazen\, Location: 12787 BTW Highway\, Suite 103\, Hardy\, VA\, 24101\, United States
CATEGORIES:Yoga Class
END:VEVENT
BEGIN:VEVENT
DTSTART;TZID=UTC:20260526T140000
DTEND;TZID=UTC:20260526T150000
DTSTAMP:20260423T233437
CREATED:20260423T222654Z
LAST-MODIFIED:20260423T222654Z
UID:10004146-1779804000-1779807600@www.thecentreatvitazen.com
SUMMARY:Yoga w Cheran
DESCRIPTION:
URL:https://www.thecentreatvitazen.com/calendar/yoga-w-cheran-3/2026-05-26/
LOCATION:The Centre at Vitazen\, Location: 12787 BTW Highway\, Suite 103\, Hardy\, VA\, 24101\, United States
CATEGORIES:Yoga Class
END:VEVENT
BEGIN:VEVENT
DTSTART;TZID=UTC:20260526T110000
DTEND;TZID=UTC:20260526T120000
DTSTAMP:20260423T233437
CREATED:20260423T222521Z
LAST-MODIFIED:20260423T222521Z
UID:10004142-1779793200-1779796800@www.thecentreatvitazen.com
SUMMARY:Strong & Balanced w Leslie
DESCRIPTION:
URL:https://www.thecentreatvitazen.com/calendar/strong-balanced-w-leslie-2/2026-05-26/
LOCATION:The Centre at Vitazen\, Location: 12787 BTW Highway\, Suite 103\, Hardy\, VA\, 24101\, United States
CATEGORIES:Yoga Class
END:VEVENT
BEGIN:VEVENT
DTSTART;TZID=UTC:20260525T110000
DTEND;TZID=UTC:20260525T120000
DTSTAMP:20260423T233437
CREATED:20260423T222246Z
LAST-MODIFIED:20260423T222246Z
UID:10004138-1779706800-1779710400@www.thecentreatvitazen.com
SUMMARY:Memorial Day Yoga
DESCRIPTION:
URL:https://www.thecentreatvitazen.com/calendar/memorial-day-yoga/
LOCATION:The Centre at Vitazen\, Location: 12787 BTW Highway\, Suite 103\, Hardy\, VA\, 24101\, United States
CATEGORIES:Yoga Class
END:VEVENT
BEGIN:VEVENT
DTSTART;TZID=UTC:20260524T110000
DTEND;TZID=UTC:20260524T120000
DTSTAMP:20260423T233437
CREATED:20260423T221315Z
LAST-MODIFIED:20260423T221315Z
UID:10004123-1779620400-1779624000@www.thecentreatvitazen.com
SUMMARY:Soothing Sunday Yoga w Brett
DESCRIPTION:
URL:https://www.thecentreatvitazen.com/calendar/soothing-sunday-yoga-w-brett-2/2026-05-24/
LOCATION:The Centre at Vitazen\, Location: 12787 BTW Highway\, Suite 103\, Hardy\, VA\, 24101\, United States
CATEGORIES:Yoga Class
END:VEVENT
END:VCALENDAR