BEGIN:VCALENDAR
VERSION:2.0
PRODID:-//The Centre at VitaZen - ECPv6.10.1.1//NONSGML v1.0//EN
CALSCALE:GREGORIAN
METHOD:PUBLISH
X-ORIGINAL-URL:https://www.thecentreatvitazen.com
X-WR-CALDESC:Events for The Centre at VitaZen
REFRESH-INTERVAL;VALUE=DURATION:PT1H
X-Robots-Tag:noindex
X-PUBLISHED-TTL:PT1H
BEGIN:VTIMEZONE
TZID:UTC
BEGIN:STANDARD
TZOFFSETFROM:+0000
TZOFFSETTO:+0000
TZNAME:UTC
DTSTART:20260101T000000
END:STANDARD
END:VTIMEZONE
BEGIN:VEVENT
DTSTART;TZID=UTC:20261003T110000
DTEND;TZID=UTC:20261003T120000
DTSTAMP:20260421T202141
CREATED:20260328T191920Z
LAST-MODIFIED:20260328T191920Z
UID:10003801-1791025200-1791028800@www.thecentreatvitazen.com
SUMMARY:Saturday Salutation
DESCRIPTION:
URL:https://www.thecentreatvitazen.com/calendar/saturday-salutation/2026-10-03/
LOCATION:The Centre at Vitazen\, Location: 12787 BTW Highway\, Suite 103\, Hardy\, VA\, 24101\, United States
CATEGORIES:Yoga Class
END:VEVENT
BEGIN:VEVENT
DTSTART;TZID=UTC:20261010T110000
DTEND;TZID=UTC:20261010T120000
DTSTAMP:20260421T202141
CREATED:20260328T191920Z
LAST-MODIFIED:20260328T191920Z
UID:10003802-1791630000-1791633600@www.thecentreatvitazen.com
SUMMARY:Saturday Salutation
DESCRIPTION:
URL:https://www.thecentreatvitazen.com/calendar/saturday-salutation/2026-10-10/
LOCATION:The Centre at Vitazen\, Location: 12787 BTW Highway\, Suite 103\, Hardy\, VA\, 24101\, United States
CATEGORIES:Yoga Class
END:VEVENT
BEGIN:VEVENT
DTSTART;TZID=UTC:20261017T110000
DTEND;TZID=UTC:20261017T120000
DTSTAMP:20260421T202141
CREATED:20260328T191920Z
LAST-MODIFIED:20260328T191920Z
UID:10003803-1792234800-1792238400@www.thecentreatvitazen.com
SUMMARY:Saturday Salutation
DESCRIPTION:
URL:https://www.thecentreatvitazen.com/calendar/saturday-salutation/2026-10-17/
LOCATION:The Centre at Vitazen\, Location: 12787 BTW Highway\, Suite 103\, Hardy\, VA\, 24101\, United States
CATEGORIES:Yoga Class
END:VEVENT
BEGIN:VEVENT
DTSTART;TZID=UTC:20261024T110000
DTEND;TZID=UTC:20261024T120000
DTSTAMP:20260421T202141
CREATED:20260328T191920Z
LAST-MODIFIED:20260328T191920Z
UID:10003804-1792839600-1792843200@www.thecentreatvitazen.com
SUMMARY:Saturday Salutation
DESCRIPTION:
URL:https://www.thecentreatvitazen.com/calendar/saturday-salutation/2026-10-24/
LOCATION:The Centre at Vitazen\, Location: 12787 BTW Highway\, Suite 103\, Hardy\, VA\, 24101\, United States
CATEGORIES:Yoga Class
END:VEVENT
BEGIN:VEVENT
DTSTART;TZID=UTC:20261031T110000
DTEND;TZID=UTC:20261031T120000
DTSTAMP:20260421T202141
CREATED:20260328T191920Z
LAST-MODIFIED:20260328T191920Z
UID:10003805-1793444400-1793448000@www.thecentreatvitazen.com
SUMMARY:Saturday Salutation
DESCRIPTION:
URL:https://www.thecentreatvitazen.com/calendar/saturday-salutation/2026-10-31/
LOCATION:The Centre at Vitazen\, Location: 12787 BTW Highway\, Suite 103\, Hardy\, VA\, 24101\, United States
CATEGORIES:Yoga Class
END:VEVENT
END:VCALENDAR