BEGIN:VCALENDAR
VERSION:2.0
PRODID:-//The Centre at VitaZen - ECPv6.10.1.1//NONSGML v1.0//EN
CALSCALE:GREGORIAN
METHOD:PUBLISH
X-WR-CALNAME:The Centre at VitaZen
X-ORIGINAL-URL:https://www.thecentreatvitazen.com
X-WR-CALDESC:Events for The Centre at VitaZen
REFRESH-INTERVAL;VALUE=DURATION:PT1H
X-Robots-Tag:noindex
X-PUBLISHED-TTL:PT1H
BEGIN:VTIMEZONE
TZID:UTC
BEGIN:STANDARD
TZOFFSETFROM:+0000
TZOFFSETTO:+0000
TZNAME:UTC
DTSTART:20280101T000000
END:STANDARD
END:VTIMEZONE
BEGIN:VEVENT
DTSTART;TZID=UTC:20280506T110000
DTEND;TZID=UTC:20280506T120000
DTSTAMP:20260423T190127
CREATED:20260328T191920Z
LAST-MODIFIED:20260328T191920Z
UID:10003884-1841223600-1841227200@www.thecentreatvitazen.com
SUMMARY:Saturday Salutation
DESCRIPTION:
URL:https://www.thecentreatvitazen.com/calendar/saturday-salutation/2028-05-06/
LOCATION:The Centre at Vitazen\, Location: 12787 BTW Highway\, Suite 103\, Hardy\, VA\, 24101\, United States
CATEGORIES:Yoga Class
END:VEVENT
BEGIN:VEVENT
DTSTART;TZID=UTC:20280513T110000
DTEND;TZID=UTC:20280513T120000
DTSTAMP:20260423T190127
CREATED:20260328T191920Z
LAST-MODIFIED:20260328T191920Z
UID:10003885-1841828400-1841832000@www.thecentreatvitazen.com
SUMMARY:Saturday Salutation
DESCRIPTION:
URL:https://www.thecentreatvitazen.com/calendar/saturday-salutation/2028-05-13/
LOCATION:The Centre at Vitazen\, Location: 12787 BTW Highway\, Suite 103\, Hardy\, VA\, 24101\, United States
CATEGORIES:Yoga Class
END:VEVENT
BEGIN:VEVENT
DTSTART;TZID=UTC:20280520T110000
DTEND;TZID=UTC:20280520T120000
DTSTAMP:20260423T190127
CREATED:20260328T191920Z
LAST-MODIFIED:20260328T191920Z
UID:10003886-1842433200-1842436800@www.thecentreatvitazen.com
SUMMARY:Saturday Salutation
DESCRIPTION:
URL:https://www.thecentreatvitazen.com/calendar/saturday-salutation/2028-05-20/
LOCATION:The Centre at Vitazen\, Location: 12787 BTW Highway\, Suite 103\, Hardy\, VA\, 24101\, United States
CATEGORIES:Yoga Class
END:VEVENT
BEGIN:VEVENT
DTSTART;TZID=UTC:20280527T110000
DTEND;TZID=UTC:20280527T120000
DTSTAMP:20260423T190127
CREATED:20260328T191920Z
LAST-MODIFIED:20260328T191920Z
UID:10003887-1843038000-1843041600@www.thecentreatvitazen.com
SUMMARY:Saturday Salutation
DESCRIPTION:
URL:https://www.thecentreatvitazen.com/calendar/saturday-salutation/2028-05-27/
LOCATION:The Centre at Vitazen\, Location: 12787 BTW Highway\, Suite 103\, Hardy\, VA\, 24101\, United States
CATEGORIES:Yoga Class
END:VEVENT
END:VCALENDAR