BEGIN:VCALENDAR
VERSION:2.0
PRODID:-//The Centre at VitaZen - ECPv6.10.1.1//NONSGML v1.0//EN
CALSCALE:GREGORIAN
METHOD:PUBLISH
X-ORIGINAL-URL:https://www.thecentreatvitazen.com
X-WR-CALDESC:Events for The Centre at VitaZen
REFRESH-INTERVAL;VALUE=DURATION:PT1H
X-Robots-Tag:noindex
X-PUBLISHED-TTL:PT1H
BEGIN:VTIMEZONE
TZID:UTC
BEGIN:STANDARD
TZOFFSETFROM:+0000
TZOFFSETTO:+0000
TZNAME:UTC
DTSTART:20260101T000000
END:STANDARD
END:VTIMEZONE
BEGIN:VEVENT
DTSTART;TZID=UTC:20260505T140000
DTEND;TZID=UTC:20260505T150000
DTSTAMP:20260424T010731
CREATED:20260423T222654Z
LAST-MODIFIED:20260423T222654Z
UID:10004143-1777989600-1777993200@www.thecentreatvitazen.com
SUMMARY:Yoga w Cheran
DESCRIPTION:
URL:https://www.thecentreatvitazen.com/calendar/yoga-w-cheran-3/2026-05-05/
LOCATION:The Centre at Vitazen\, Location: 12787 BTW Highway\, Suite 103\, Hardy\, VA\, 24101\, United States
CATEGORIES:Yoga Class
END:VEVENT
BEGIN:VEVENT
DTSTART;TZID=UTC:20260512T140000
DTEND;TZID=UTC:20260512T150000
DTSTAMP:20260424T010731
CREATED:20260423T222654Z
LAST-MODIFIED:20260423T222654Z
UID:10004144-1778594400-1778598000@www.thecentreatvitazen.com
SUMMARY:Yoga w Cheran
DESCRIPTION:
URL:https://www.thecentreatvitazen.com/calendar/yoga-w-cheran-3/2026-05-12/
LOCATION:The Centre at Vitazen\, Location: 12787 BTW Highway\, Suite 103\, Hardy\, VA\, 24101\, United States
CATEGORIES:Yoga Class
END:VEVENT
BEGIN:VEVENT
DTSTART;TZID=UTC:20260519T140000
DTEND;TZID=UTC:20260519T150000
DTSTAMP:20260424T010731
CREATED:20260423T222654Z
LAST-MODIFIED:20260423T222654Z
UID:10004145-1779199200-1779202800@www.thecentreatvitazen.com
SUMMARY:Yoga w Cheran
DESCRIPTION:
URL:https://www.thecentreatvitazen.com/calendar/yoga-w-cheran-3/2026-05-19/
LOCATION:The Centre at Vitazen\, Location: 12787 BTW Highway\, Suite 103\, Hardy\, VA\, 24101\, United States
CATEGORIES:Yoga Class
END:VEVENT
BEGIN:VEVENT
DTSTART;TZID=UTC:20260526T140000
DTEND;TZID=UTC:20260526T150000
DTSTAMP:20260424T010731
CREATED:20260423T222654Z
LAST-MODIFIED:20260423T222654Z
UID:10004146-1779804000-1779807600@www.thecentreatvitazen.com
SUMMARY:Yoga w Cheran
DESCRIPTION:
URL:https://www.thecentreatvitazen.com/calendar/yoga-w-cheran-3/2026-05-26/
LOCATION:The Centre at Vitazen\, Location: 12787 BTW Highway\, Suite 103\, Hardy\, VA\, 24101\, United States
CATEGORIES:Yoga Class
END:VEVENT
END:VCALENDAR