BEGIN:VCALENDAR
VERSION:2.0
PRODID:-//The Centre at VitaZen - ECPv6.10.1.1//NONSGML v1.0//EN
CALSCALE:GREGORIAN
METHOD:PUBLISH
X-ORIGINAL-URL:https://www.thecentreatvitazen.com
X-WR-CALDESC:Events for The Centre at VitaZen
REFRESH-INTERVAL;VALUE=DURATION:PT1H
X-Robots-Tag:noindex
X-PUBLISHED-TTL:PT1H
BEGIN:VTIMEZONE
TZID:UTC
BEGIN:STANDARD
TZOFFSETFROM:+0000
TZOFFSETTO:+0000
TZNAME:UTC
DTSTART:20260101T000000
END:STANDARD
END:VTIMEZONE
BEGIN:VEVENT
DTSTART;TZID=UTC:20260507T090000
DTEND;TZID=UTC:20260507T100000
DTSTAMP:20260426T023526
CREATED:20260423T223516Z
LAST-MODIFIED:20260423T223516Z
UID:10004155-1778144400-1778148000@www.thecentreatvitazen.com
SUMMARY:Yoga w Marge
DESCRIPTION:
URL:https://www.thecentreatvitazen.com/calendar/yoga-w-marge-5/2026-05-07/
LOCATION:The Centre at Vitazen\, Location: 12787 BTW Highway\, Suite 103\, Hardy\, VA\, 24101\, United States
CATEGORIES:Yoga Class
END:VEVENT
BEGIN:VEVENT
DTSTART;TZID=UTC:20260514T090000
DTEND;TZID=UTC:20260514T100000
DTSTAMP:20260426T023527
CREATED:20260423T223516Z
LAST-MODIFIED:20260423T223516Z
UID:10004156-1778749200-1778752800@www.thecentreatvitazen.com
SUMMARY:Yoga w Marge
DESCRIPTION:
URL:https://www.thecentreatvitazen.com/calendar/yoga-w-marge-5/2026-05-14/
LOCATION:The Centre at Vitazen\, Location: 12787 BTW Highway\, Suite 103\, Hardy\, VA\, 24101\, United States
CATEGORIES:Yoga Class
END:VEVENT
BEGIN:VEVENT
DTSTART;TZID=UTC:20260521T090000
DTEND;TZID=UTC:20260521T100000
DTSTAMP:20260426T023527
CREATED:20260423T223516Z
LAST-MODIFIED:20260423T223516Z
UID:10004157-1779354000-1779357600@www.thecentreatvitazen.com
SUMMARY:Yoga w Marge
DESCRIPTION:
URL:https://www.thecentreatvitazen.com/calendar/yoga-w-marge-5/2026-05-21/
LOCATION:The Centre at Vitazen\, Location: 12787 BTW Highway\, Suite 103\, Hardy\, VA\, 24101\, United States
CATEGORIES:Yoga Class
END:VEVENT
BEGIN:VEVENT
DTSTART;TZID=UTC:20260528T090000
DTEND;TZID=UTC:20260528T100000
DTSTAMP:20260426T023527
CREATED:20260423T223516Z
LAST-MODIFIED:20260423T223516Z
UID:10004158-1779958800-1779962400@www.thecentreatvitazen.com
SUMMARY:Yoga w Marge
DESCRIPTION:
URL:https://www.thecentreatvitazen.com/calendar/yoga-w-marge-5/2026-05-28/
LOCATION:The Centre at Vitazen\, Location: 12787 BTW Highway\, Suite 103\, Hardy\, VA\, 24101\, United States
CATEGORIES:Yoga Class
END:VEVENT
END:VCALENDAR